BEGIN:VCALENDAR
VERSION:2.0
PRODID:-//Sabre//Sabre VObject 4.5.8//EN
CALSCALE:GREGORIAN
LAST-MODIFIED:20210615T175840Z
BEGIN:VTIMEZONE
TZID:America/Los_Angeles
X-MICROSOFT-CDO-TZID:13
BEGIN:STANDARD
DTSTART:20201101T090000
TZOFFSETFROM:-0700
TZOFFSETTO:-0800
TZNAME:PST
END:STANDARD
BEGIN:STANDARD
DTSTART:20211107T090000
TZOFFSETFROM:-0700
TZOFFSETTO:-0800
TZNAME:PST
END:STANDARD
BEGIN:DAYLIGHT
DTSTART:20210314T100000
TZOFFSETFROM:-0800
TZOFFSETTO:-0700
TZNAME:PDT
END:DAYLIGHT
END:VTIMEZONE
BEGIN:VEVENT
UID:807c1e26-92bd-48ee-9372-e26e46323d1f
DTSTAMP:20210615T175840Z
SUMMARY:ARIA Work Session: 1.2 Authoring Tests
DTSTART;TZID=America/Los_Angeles:20210617T090000
DTEND;TZID=America/Los_Angeles:20210617T100000
DESCRIPTION:https://www.w3.org/events/meetings/807c1e26-92bd-48ee-9372-e26e
 46323d1f/\n\n\n\nAgenda\n\nhttps://github.com/w3c/aria/issues/1492\nTopic:
  Developing test cases and obtaining results for Authors MUST/MUST NOT sta
 tements in ARIA 1.2\n* What test contents should look like?\n* What valida
 tors (esp. command-line tools) are available?\n* What do we want to do abo
 ut test result format?\n* Where do we want to store tests?\n* Backfilling 
 1.0/1.1 tests
STATUS:CONFIRMED
CREATED:20210615T175537Z
LAST-MODIFIED:20210615T175840Z
SEQUENCE:2
ORGANIZER;CN=W3C Calendar;PARTSTAT=ACCEPTED;ROLE=NON-PARTICIPANT:mailto:nor
 eply@w3.org
ATTENDEE;CUTYPE=GROUP;ROLE=OPT-PARTICIPANT;RSVP=FALSE;CN=Accessible Rich In
 ternet Applications Working Group:mailto:public-aria@w3.org
END:VEVENT
END:VCALENDAR
