BEGIN:VCALENDAR
VERSION:2.0
PRODID:-//Sabre//Sabre VObject 4.5.8//EN
CALSCALE:GREGORIAN
LAST-MODIFIED:20210810T123031Z
BEGIN:VTIMEZONE
TZID:America/Los_Angeles
X-MICROSOFT-CDO-TZID:13
BEGIN:STANDARD
DTSTART:20201101T090000
TZOFFSETFROM:-0700
TZOFFSETTO:-0800
TZNAME:PST
END:STANDARD
BEGIN:STANDARD
DTSTART:20211107T090000
TZOFFSETFROM:-0700
TZOFFSETTO:-0800
TZNAME:PST
END:STANDARD
BEGIN:DAYLIGHT
DTSTART:20210314T100000
TZOFFSETFROM:-0800
TZOFFSETTO:-0700
TZNAME:PDT
END:DAYLIGHT
END:VTIMEZONE
BEGIN:VEVENT
UID:807528b6-5bcd-4bb5-bab3-5a3d9afe35a6
DTSTAMP:20210810T123031Z
SUMMARY:WebRTC WG September 2021 call
DTSTART;TZID=America/Los_Angeles:20210915T080000
DTEND;TZID=America/Los_Angeles:20210915T100000
DESCRIPTION:https://www.w3.org/events/meetings/807528b6-5bcd-4bb5-bab3-5a3d
 9afe35a6/\n\n\n\nAgenda: https://www.w3.org/2011/04/webrtc/wiki/September_
 15_2021#WebRTC_WG_Virtual_Interim
STATUS:CANCELLED
CREATED:20210802T070557Z
LAST-MODIFIED:20210810T123031Z
SEQUENCE:4
ORGANIZER;CN=W3C Calendar;PARTSTAT=ACCEPTED;ROLE=NON-PARTICIPANT:mailto:nor
 eply@w3.org
ATTENDEE;CUTYPE=GROUP;ROLE=OPT-PARTICIPANT;RSVP=FALSE;CN=Web Real-Time Comm
 unications Working Group:mailto:public-webrtc@w3.org
END:VEVENT
END:VCALENDAR
