BEGIN:VCALENDAR
VERSION:2.0
PRODID:-//Sabre//Sabre VObject 4.5.8//EN
CALSCALE:GREGORIAN
LAST-MODIFIED:20240328T160037Z
BEGIN:VTIMEZONE
TZID:Etc/UTC
BEGIN:STANDARD
DTSTART:20230403T150000
TZOFFSETFROM:+0000
TZOFFSETTO:+0000
TZNAME:UTC
END:STANDARD
END:VTIMEZONE
BEGIN:VEVENT
UID:8071a011-6376-49a7-907f-a487f9f459bd
DTSTAMP:20240328T160037Z
SUMMARY:WebView CG Meeting
DTSTART;TZID=Etc/UTC:20240328T150000
DTEND;TZID=Etc/UTC:20240328T160000
DESCRIPTION:https://www.w3.org/events/meetings/8071a011-6376-49a7-907f-a487
 f9f459bd/\n\nRecurring CG meeting on a monthly basis.\n\nThis month we are
  moving this meeting to a **Thursday** because the last Friday of March is
  a public holiday in some countries.\n\nAgenda: http://bit.ly/wv-cg-24-mar
 \n\nAgenda\n\nThe two main topics we will be discussing with be:\n* The We
 bView survey - Please add your ideas for questions\, answers and audiences
  to [this repository](https://github.com/WebView-CG/webview-survey).\n* Th
 e Compat  Data Project - [PR](https://github.com/WebView-CG/Compatibility-
 Data-Project/pull/5) with suggested timeline and templates\, suggested fea
 tures\n\nJoining Instructions: https://w3c.zoom.us/j/88040907421?pwd=QUJiU
 29JdG55OS8xRWJPd0hFTVVXUT09
STATUS:CONFIRMED
CREATED:20240315T153643Z
LAST-MODIFIED:20240328T160037Z
SEQUENCE:1
ORGANIZER;CN=W3C Calendar;PARTSTAT=ACCEPTED;ROLE=NON-PARTICIPANT:mailto:nor
 eply@w3.org
ATTENDEE;CUTYPE=GROUP;ROLE=OPT-PARTICIPANT;RSVP=FALSE;CN=WebView Community 
 Group:mailto:public-webview@w3.org
END:VEVENT
END:VCALENDAR
