BEGIN:VCALENDAR
VERSION:2.0
PRODID:-//Sabre//Sabre VObject 4.5.8//EN
CALSCALE:GREGORIAN
LAST-MODIFIED:20210902T191500Z
BEGIN:VTIMEZONE
TZID:Etc/UTC
BEGIN:STANDARD
DTSTART:20200907T150000
TZOFFSETFROM:+0000
TZOFFSETTO:+0000
TZNAME:UTC
END:STANDARD
END:VTIMEZONE
BEGIN:VEVENT
UID:7fc25ca5-a50c-498c-82e5-f48fc96e1637
DTSTAMP:20210902T191500Z
SUMMARY:WebExtensions CG
DTSTART;TZID=Etc/UTC:20210902T150000
DTEND;TZID=Etc/UTC:20210902T160000
DESCRIPTION:https://www.w3.org/events/meetings/7fc25ca5-a50c-498c-82e5-f48f
 c96e1637/20210902T150000/\n\nThe WebExtensions Community group meets virtu
 ally every other week for one hour to discuss issues of interest to the gr
 oup. These meetings are supplementary to the ongoing conversations in the 
 issue tracker.\n\nTo accomodate attendees across the globe\, the recurring
  meeting alternates between two time slots:\n\nThursday 8 AM PDT / Thursda
 y 3 PM UTC\nThursday 11 PM PDT / Friday 6 AM UTC\n\nAgenda: https://docs.g
 oogle.com/document/d/1QkwhEMtMS67JBUkl_WVPZ4lRSKoWcQNlLJSf_GwSXg8\n\nAgend
 a\n\nGithub issues: https://github.com/w3c/webextensions/issues\nAgenda: h
 ttps://docs.google.com/document/d/1QkwhEMtMS67JBUkl_WVPZ4lRSKoWcQNlLJSf_Gw
 SXg8\n\nPlease add yourself at the bottom of the Queue section if you have
  a discussion point.
STATUS:CONFIRMED
CREATED:20210723T062408Z
LAST-MODIFIED:20210902T191500Z
SEQUENCE:3
ORGANIZER;CN=W3C Calendar;PARTSTAT=ACCEPTED;ROLE=NON-PARTICIPANT:mailto:nor
 eply@w3.org
ATTENDEE;CUTYPE=GROUP;ROLE=OPT-PARTICIPANT;RSVP=FALSE;CN=WebExtensions Comm
 unity Group:mailto:public-webextensions@w3.org
RECURRENCE-ID;TZID=Etc/UTC:20210902T150000
END:VEVENT
END:VCALENDAR
