BEGIN:VCALENDAR
VERSION:2.0
PRODID:-//Sabre//Sabre VObject 4.5.8//EN
CALSCALE:GREGORIAN
LAST-MODIFIED:20260312T144407Z
BEGIN:VTIMEZONE
TZID:Etc/UTC
BEGIN:STANDARD
DTSTART:20230318T130000
TZOFFSETFROM:+0000
TZOFFSETTO:+0000
TZNAME:UTC
END:STANDARD
END:VTIMEZONE
BEGIN:VEVENT
UID:7f29f666-3931-49f8-a44c-93bd9807ab2d
DTSTAMP:20260312T144407Z
SUMMARY:Nu Tracker: Helping you manage actions and horizontal review tasks 
 from the command line
DTSTART;TZID=Etc/UTC:20240312T130000
DTEND;TZID=Etc/UTC:20240312T140000
DESCRIPTION:https://www.w3.org/events/meetings/7f29f666-3931-49f8-a44c-93bd
 9807ab2d/\n\nThe move to Github for tracking our work - including actions\
 , and various horizontal review tasks - has been a boon for productivity\,
  and transparency. However\, it can be hard to keep up to date with all th
 e work that's going on\, especially for TF facilitators\, WG chairs\, peop
 le who take part in horizontal review activities\, and people who find the
  command line more accessible.\n\nWith a hat tipped to Tracker\, our long-
 time action management tool\, APA WG has been exploring the possibilities 
 for presenting the rich and robust GitHub process on the command line. But
  this isn't just for APA WG\; it's intended to be of use to TF facilitator
 s and WG chairs across W3C.\n\n**Goal(s):**\nDemonstrate our command-line 
 work tracking tool\, and seek feedback from potential users\n\nAgenda\n\n*
  Use cases for a new interface to the GitHub process\n* Demo of Nu Tracker
 \n* Roadmap\n* Questions and feedback\n\n**Materials:**\n- [Session propos
 al on GitHub](https://github.com/w3c/breakouts-day-2024/issues/11)
STATUS:CONFIRMED
CREATED:20240302T122823Z
LAST-MODIFIED:20260312T144407Z
SEQUENCE:4
ORGANIZER;CN=W3C Calendar;PARTSTAT=ACCEPTED;ROLE=NON-PARTICIPANT:mailto:nor
 eply@w3.org
LOCATION:Lyre
CATEGORIES:W3C Breakouts Day 2024,Breakout Sessions
END:VEVENT
END:VCALENDAR
