BEGIN:VCALENDAR
VERSION:2.0
PRODID:-//Sabre//Sabre VObject 4.5.8//EN
CALSCALE:GREGORIAN
LAST-MODIFIED:20210513T203803Z
BEGIN:VTIMEZONE
TZID:America/Toronto
BEGIN:STANDARD
DTSTART:20201101T060000
TZOFFSETFROM:-0400
TZOFFSETTO:-0500
TZNAME:EST
END:STANDARD
BEGIN:STANDARD
DTSTART:20211107T060000
TZOFFSETFROM:-0400
TZOFFSETTO:-0500
TZNAME:EST
END:STANDARD
BEGIN:DAYLIGHT
DTSTART:20210314T070000
TZOFFSETFROM:-0500
TZOFFSETTO:-0400
TZNAME:EDT
END:DAYLIGHT
END:VTIMEZONE
BEGIN:VEVENT
UID:7ef2b80b-6b48-4a11-babb-74c0eea1a73c
DTSTAMP:20210513T203803Z
SUMMARY:EPUB 3 Working Group F2F
DTSTART;TZID=America/Toronto:20210528T100000
DTEND;TZID=America/Toronto:20210528T130000
DESCRIPTION:https://www.w3.org/events/meetings/7ef2b80b-6b48-4a11-babb-74c0
 eea1a73c/\n\nThe EPUB 3 Working Group will be meeting for a 2 day Face to 
 Face (F2F) meeting on May 27/28. Agenda to come.
STATUS:CONFIRMED
CREATED:20210513T203751Z
LAST-MODIFIED:20210513T203803Z
SEQUENCE:1
ORGANIZER;CN=W3C Calendar;PARTSTAT=ACCEPTED;ROLE=NON-PARTICIPANT:mailto:nor
 eply@w3.org
ATTENDEE;CUTYPE=GROUP;ROLE=OPT-PARTICIPANT;RSVP=FALSE;CN=EPUB 3 Working Gro
 up:mailto:public-epub-wg@w3.org
END:VEVENT
END:VCALENDAR
