BEGIN:VCALENDAR
VERSION:2.0
PRODID:-//Sabre//Sabre VObject 4.5.8//EN
CALSCALE:GREGORIAN
LAST-MODIFIED:20230321T015138Z
BEGIN:VTIMEZONE
TZID:America/New_York
X-MICROSOFT-CDO-TZID:10
BEGIN:STANDARD
DTSTART:20221106T060000
TZOFFSETFROM:-0400
TZOFFSETTO:-0500
TZNAME:EST
END:STANDARD
BEGIN:STANDARD
DTSTART:20231105T060000
TZOFFSETFROM:-0400
TZOFFSETTO:-0500
TZNAME:EST
END:STANDARD
BEGIN:DAYLIGHT
DTSTART:20230312T070000
TZOFFSETFROM:-0500
TZOFFSETTO:-0400
TZNAME:EDT
END:DAYLIGHT
END:VTIMEZONE
BEGIN:VEVENT
UID:7ebe3690-9cf4-4e42-b351-d401cea9d8f9
DTSTAMP:20230321T015138Z
SUMMARY:Private Advertising Technology CG Meeting
DTSTART;TZID=America/New_York:20230323T030000
DTEND;TZID=America/New_York:20230323T060000
DESCRIPTION:https://www.w3.org/events/meetings/7ebe3690-9cf4-4e42-b351-d401
 cea9d8f9/20230323T030000/\n\nMeeting of Private Advertising Technology CG.
 \n\nAgenda: https://github.com/patcg/meetings/tree/main/2023/03/21-telecon
 \n\nJoining Instructions: https://mit.zoom.us/j/95356244879?pwd=NDBwZmxleT
 MwcHFpZG1MZW1tUXhVUT09\n\nChat\n\nhttps://www.w3.org/slack-w3ccommunity-in
 vite Our group is called “private-advertising-technology-cg”
STATUS:CONFIRMED
CREATED:20230221T025231Z
LAST-MODIFIED:20230321T015138Z
SEQUENCE:2
ORGANIZER;CN=W3C Calendar;PARTSTAT=ACCEPTED;ROLE=NON-PARTICIPANT:mailto:nor
 eply@w3.org
ATTENDEE;CUTYPE=GROUP;ROLE=OPT-PARTICIPANT;RSVP=FALSE;CN=Private Advertisin
 g Technology Community Group:mailto:public-patcg@w3.org
RECURRENCE-ID;TZID=America/New_York:20230323T030000
END:VEVENT
END:VCALENDAR
