BEGIN:VCALENDAR
VERSION:2.0
PRODID:-//Sabre//Sabre VObject 4.5.8//EN
CALSCALE:GREGORIAN
LAST-MODIFIED:20240926T233514Z
BEGIN:VTIMEZONE
TZID:America/Los_Angeles
X-MICROSOFT-CDO-TZID:13
BEGIN:STANDARD
DTSTART:20231105T090000
TZOFFSETFROM:-0700
TZOFFSETTO:-0800
TZNAME:PST
END:STANDARD
BEGIN:STANDARD
DTSTART:20241103T090000
TZOFFSETFROM:-0700
TZOFFSETTO:-0800
TZNAME:PST
END:STANDARD
BEGIN:DAYLIGHT
DTSTART:20240310T100000
TZOFFSETFROM:-0800
TZOFFSETTO:-0700
TZNAME:PDT
END:DAYLIGHT
END:VTIMEZONE
BEGIN:VEVENT
UID:7e85c113-b78c-4e17-817f-21e81f424fd7
DTSTAMP:20240926T233514Z
SUMMARY:Privacy Community Group
DTSTART;TZID=America/Los_Angeles:20240926T163000
DTEND;TZID=America/Los_Angeles:20240926T180000
DESCRIPTION:https://www.w3.org/events/meetings/7e85c113-b78c-4e17-817f-21e8
 1f424fd7/\n\n\n\nAgenda: https://lists.w3.org/Archives/Public/public-priva
 cycg/2024Sep/0001.html
STATUS:CONFIRMED
CREATED:20240614T163649Z
LAST-MODIFIED:20240926T233514Z
SEQUENCE:5
ORGANIZER;CN=W3C Calendar;PARTSTAT=ACCEPTED;ROLE=NON-PARTICIPANT:mailto:nor
 eply@w3.org
ATTENDEE;CUTYPE=GROUP;ROLE=OPT-PARTICIPANT;RSVP=FALSE;CN=Privacy Community 
 Group:mailto:public-privacycg@w3.org
LOCATION:2 Ballroom Level - California A
CATEGORIES:TPAC 2024,Group Meetings
END:VEVENT
END:VCALENDAR
