BEGIN:VCALENDAR
VERSION:2.0
PRODID:-//Sabre//Sabre VObject 4.5.8//EN
CALSCALE:GREGORIAN
LAST-MODIFIED:20241125T101506Z
BEGIN:VTIMEZONE
TZID:America/Los_Angeles
X-MICROSOFT-CDO-TZID:13
BEGIN:DAYLIGHT
DTSTART:20240310T100000
TZOFFSETFROM:-0800
TZOFFSETTO:-0700
TZNAME:PDT
END:DAYLIGHT
BEGIN:DAYLIGHT
DTSTART:20250309T100000
TZOFFSETFROM:-0800
TZOFFSETTO:-0700
TZNAME:PDT
END:DAYLIGHT
BEGIN:STANDARD
DTSTART:20241103T090000
TZOFFSETFROM:-0700
TZOFFSETTO:-0800
TZNAME:PST
END:STANDARD
END:VTIMEZONE
BEGIN:VEVENT
UID:7ced2998-7e23-49e2-be67-c3a929291607
DTSTAMP:20241125T101506Z
SUMMARY:DID Working Group Meeting
DTSTART;TZID=America/Los_Angeles:20241114T080000
DTEND;TZID=America/Los_Angeles:20241114T090000
DESCRIPTION:https://www.w3.org/events/meetings/7ced2998-7e23-49e2-be67-c3a9
 29291607/20241114T080000/\n\nThe regular meeting for the Decentralized Ide
 ntifier Working Group.\n\nAgenda\n\n"Thursday 14 Nov 2024\nTime: 11:00 AM 
 Boston (60min)\nLocal date/time link: https://www.timeanddate.com/worldclo
 ck/fixedtime.html?msg=DID+WG+Meeting&iso=20241114T11&p1=43&ah=1\n\nConnect
 ion details at end of note\n\n### SPECIAL NOTE\, if any ###\n\n###\n\nScri
 be list: DavidL\, PhilA\, ShigeyaS\, SteveM\, TedT\, TylerM\, WesleyS\, Je
 nnieM\, BrunoV\, JamesE\, GabeC\, KevinD\, BenjaminY\, MarkusS\, Christoph
 erA\, PA\, WillA\, JoeA\, ManuS\, StevenCurran\, DmitriZ\, DanP\, Drummond
 R\n\n\nMeeting Chair: Will Abramson\n\n\nTopic (time)\n1-Agenda Review\, I
 ntroductions  (5 min)\n2-Announcements [1] (5 min)\n3-DID Core PRs [2] (15
  min)\n4-DID Resolution Issue Processing [3] (10 min)\n5-DID Extensions: D
 ID Method Registry proposal [4] (18 min)\n6-Next Time  (2 min)\n\n========
 ========================\n= did-core issues marked pending close =\n======
 ==========================\nAs of the time this email was sent\, the follo
 wing did-core issues were marked 'pending close':\n\nIssue 864: https://gi
 thub.com/w3c/did-core/issues/864\n\n\nFor an up to date list of the curren
 t set of 'pending close' issues\, please see: \nhttps://github.com/w3c/did
 -core/issues?q=is%3Aissue+is%3Aopen+sort%3Aupdated-asc+label%3A%22pending+
 close%22\n\n================================\n= did-resolution issues mark
 ed pending close =\n================================\nAs of the time this 
 email was sent\, the following did-resolution issues were marked 'pending 
 close':\n\nIssue 34: https://github.com/w3c/did-resolution/issues/34\nIssu
 e 35: https://github.com/w3c/did-resolution/issues/35\nIssue 60: https://g
 ithub.com/w3c/did-resolution/issues/60\nIssue 80: https://github.com/w3c/d
 id-resolution/issues/80\nIssue 82: https://github.com/w3c/did-resolution/i
 ssues/82\nIssue 83: https://github.com/w3c/did-resolution/issues/83\n\n\nF
 or an up to date list of the current set of 'pending close' issues\, pleas
 e see: \nhttps://github.com/w3c/did-resolution/issues?q=is%3Aissue+is%3Aop
 en+sort%3Aupdated-asc+label%3A%22pending+close%22\n\nLinks\n[1] https://gi
 thub.com/w3c/did-core/issues/855\n[2] https://github.com/w3c/did-core/pull
 s\n[3] https://github.com/w3c/did-resolution/issues?q=is%3Aopen+is%3Aissue
 +label%3A%22good+first+issue%22\n[4] https://github.com/w3c/did-extensions
 /issues/565\n\n=================\n= Connection details =\n================
 =\nText Chat: http://irc.w3.org/?channels=did\nIRC://irc.w3.org:6665/#did\
 n\n=================\nThe DID WG relies on IRC in our weekly call to encou
 rage meeting participation\, document our discussions\, vote on resolution
 s and manage the speaker queue\, etc. For more information about IRC in w3
 .org\, please review https://www.w3.org/wiki/IRC"
STATUS:CONFIRMED
CREATED:20241112T164412Z
LAST-MODIFIED:20241125T101506Z
SEQUENCE:0
ORGANIZER;CN=W3C Calendar;PARTSTAT=ACCEPTED;ROLE=NON-PARTICIPANT:mailto:nor
 eply@w3.org
ATTENDEE;CUTYPE=GROUP;ROLE=OPT-PARTICIPANT;RSVP=FALSE;CN=Decentralized Iden
 tifier Working Group:mailto:public-did-wg@w3.org
LOCATION:https://w3c.zoom.us/j/82107835958?pwd=skqaa9teeNJuNtIKqV1pJjafJRcy
 A4.1
RECURRENCE-ID;TZID=America/Los_Angeles:20241114T080000
END:VEVENT
END:VCALENDAR
