BEGIN:VCALENDAR
VERSION:2.0
PRODID:-//Sabre//Sabre VObject 4.5.8//EN
CALSCALE:GREGORIAN
LAST-MODIFIED:20240927T183015Z
BEGIN:VTIMEZONE
TZID:America/Los_Angeles
X-MICROSOFT-CDO-TZID:13
BEGIN:STANDARD
DTSTART:20231105T090000
TZOFFSETFROM:-0700
TZOFFSETTO:-0800
TZNAME:PST
END:STANDARD
BEGIN:STANDARD
DTSTART:20241103T090000
TZOFFSETFROM:-0700
TZOFFSETTO:-0800
TZNAME:PST
END:STANDARD
BEGIN:DAYLIGHT
DTSTART:20240310T100000
TZOFFSETFROM:-0800
TZOFFSETTO:-0700
TZNAME:PDT
END:DAYLIGHT
END:VTIMEZONE
BEGIN:VEVENT
UID:7b543379-edbe-4922-b6c4-91f0b03bc8c2
DTSTAMP:20240927T183015Z
SUMMARY:WHATWG\, Internationalization Working Group Joint Meeting
DTSTART;TZID=America/Los_Angeles:20240927T163000
DTEND;TZID=America/Los_Angeles:20240927T180000
DESCRIPTION:https://www.w3.org/events/meetings/7b543379-edbe-4922-b6c4-91f0
 b03bc8c2/\n\n\n\nAgenda: https://github.com/whatwg/meta/issues/326\n\nAgen
 da\n\n*    EAI\n\n**Topic: Locale and language tag related issues**\n* htt
 ps://github.com/whatwg/html/issues/7039\n*    Making input respect locale 
 (which is quasi-in-the-spec\, but inconsistently implemented)\n*    Fixing
  <time> and potentially having locale-aware presentational elements.\n\n\n
 **Topic: Bidi issues**\n\n* [Bidi issues](https://github.com/w3c/i18n-acti
 vity/issues?q=is%3Aissue+is%3Aopen+label%3At%3Abidi_markup+label%3Awhatwg)
 \n*     https://github.com/w3c/i18n-activity/issues/1819\n\n**Topic: date/
 time related issues and locale-sensitivity in general**\n\n* [time related
  issues](https://github.com/w3c/i18n-activity/issues?q=is%3Aissue+is%3Aope
 n+label%3At%3Aloc_time)\n\n\n* [Agenda+ full list](https://github.com/w3c/
 i18n-activity/issues?q=is%3Aissue+is%3Aopen+label%3AAgenda%2BI18N%2BWHATWG
 )\n*
STATUS:CONFIRMED
CREATED:20240614T161727Z
LAST-MODIFIED:20240927T183015Z
SEQUENCE:8
ORGANIZER;CN=W3C Calendar;PARTSTAT=ACCEPTED;ROLE=NON-PARTICIPANT:mailto:nor
 eply@w3.org
ATTENDEE;CUTYPE=GROUP;ROLE=OPT-PARTICIPANT;RSVP=FALSE;CN=Internationalizati
 on Working Group:mailto:public-i18n-core@w3.org
LOCATION:4 Concourse Level - Capistrano
CATEGORIES:TPAC 2024,Group Meetings
END:VEVENT
END:VCALENDAR
