BEGIN:VCALENDAR
VERSION:2.0
PRODID:-//Sabre//Sabre VObject 4.5.8//EN
CALSCALE:GREGORIAN
LAST-MODIFIED:20211011T111959Z
BEGIN:VTIMEZONE
TZID:Europe/London
X-MICROSOFT-CDO-TZID:1
BEGIN:STANDARD
DTSTART:20201025T010000
TZOFFSETFROM:+0100
TZOFFSETTO:+0000
TZNAME:GMT
END:STANDARD
BEGIN:STANDARD
DTSTART:20211031T010000
TZOFFSETFROM:+0100
TZOFFSETTO:+0000
TZNAME:GMT
END:STANDARD
BEGIN:DAYLIGHT
DTSTART:20210328T010000
TZOFFSETFROM:+0000
TZOFFSETTO:+0100
TZNAME:BST
END:DAYLIGHT
END:VTIMEZONE
BEGIN:VEVENT
UID:7ab0702b-4993-45e5-a5af-7b483e2cdffd
DTSTAMP:20211011T111959Z
SUMMARY:TPAC Agenda Wrangling
DTSTART;TZID=Europe/London:20211012T200000
DTEND;TZID=Europe/London:20211012T210000
DESCRIPTION:https://www.w3.org/events/meetings/7ab0702b-4993-45e5-a5af-7b48
 3e2cdffd/\n\nImmersive Web 2021 TPAC is being run unconference style.\n\nT
 his session will be used to propose topics which will be discussed on Thur
 sday and Friday.\n\nThis call will use the regular Tuesday meeting slot:\n
 \n  https://mit.webex.com/mit/j.php?MTID=m96530efb7f017e446d5e163f36a1d60a
 \n  Meeting number: 648 395 336\n  Meeting password: w3c
STATUS:CONFIRMED
CREATED:20211011T111215Z
LAST-MODIFIED:20211011T111959Z
SEQUENCE:2
ORGANIZER;CN=W3C Calendar;PARTSTAT=ACCEPTED;ROLE=NON-PARTICIPANT:mailto:nor
 eply@w3.org
ATTENDEE;CUTYPE=GROUP;ROLE=OPT-PARTICIPANT;RSVP=FALSE;CN=Immersive Web Work
 ing Group:mailto:public-immersive-web-wg@w3.org
LOCATION:https://mit.webex.com/mit/j.php?MTID=m96530efb7f017e446d5e163f36a1
 d60a
END:VEVENT
END:VCALENDAR
