BEGIN:VCALENDAR
VERSION:2.0
PRODID:-//Sabre//Sabre VObject 4.5.8//EN
CALSCALE:GREGORIAN
LAST-MODIFIED:20260219T072043Z
BEGIN:VTIMEZONE
TZID:Asia/Tokyo
X-MICROSOFT-CDO-TZID:20
BEGIN:STANDARD
DTSTART:20241115T233000
TZOFFSETFROM:+0900
TZOFFSETTO:+0900
TZNAME:JST
END:STANDARD
END:VTIMEZONE
BEGIN:VEVENT
UID:7a9ce9b0-23ff-45e3-a9fa-0426ce803cee
DTSTAMP:20260219T072043Z
SUMMARY:Annotating WPT to Surface the Status of the Platform
DTSTART;TZID=Asia/Tokyo:20251111T083000
DTEND;TZID=Asia/Tokyo:20251111T093000
DESCRIPTION:https://www.w3.org/events/meetings/7a9ce9b0-23ff-45e3-a9fa-0426
 ce803cee/\n\nIn this breakout\, you'll become acquainted with [the Web Dev
 eloper Experience (WebDX) Community Group](https://www.w3.org/community/we
 bdx/) and its efforts to formally classify the platform's capabilities int
 o a set of "features" as understood by web developers. You will see how th
 is information is integrated into WPT and the practical value of that inte
 gration. You'll also learn how you can support the process as a specificat
 ion editor and/or test author. Finally\, you'll brainstorm opportunities t
 o refine the process in service of fostering more nuanced insights into th
 e state of the platform.\n\n**Goal(s):**\nInspire participation in an ongo
 ing effort to improve visibility into implementation status\n\nAgenda\n\n*
 *Materials:**\n- [Session proposal on GitHub](https://github.com/w3c/tpac2
 025-breakouts/issues/16)
STATUS:CONFIRMED
CREATED:20251028T073458Z
LAST-MODIFIED:20260219T072043Z
SEQUENCE:3
ORGANIZER;CN=W3C Calendar;PARTSTAT=ACCEPTED;ROLE=NON-PARTICIPANT:mailto:nor
 eply@w3.org
LOCATION:Floor 5 - 505
CATEGORIES:TPAC 2025,Breakout Sessions
END:VEVENT
END:VCALENDAR
