BEGIN:VCALENDAR
VERSION:2.0
PRODID:-//Sabre//Sabre VObject 4.5.8//EN
CALSCALE:GREGORIAN
LAST-MODIFIED:20240627T150000Z
BEGIN:VTIMEZONE
TZID:America/Vancouver
BEGIN:STANDARD
DTSTART:20231105T090000
TZOFFSETFROM:-0700
TZOFFSETTO:-0800
TZNAME:PST
END:STANDARD
BEGIN:STANDARD
DTSTART:20241103T090000
TZOFFSETFROM:-0700
TZOFFSETTO:-0800
TZNAME:PST
END:STANDARD
BEGIN:DAYLIGHT
DTSTART:20240310T100000
TZOFFSETFROM:-0800
TZOFFSETTO:-0700
TZNAME:PDT
END:DAYLIGHT
END:VTIMEZONE
BEGIN:VEVENT
UID:7a1b027a-8c5b-42d1-a224-3ae2ddeffec0
DTSTAMP:20240627T150000Z
SUMMARY:OpenUI-WHATWG/HTML-CSSWG meeting
DTSTART;TZID=America/Vancouver:20240627T080000
DTEND;TZID=America/Vancouver:20240627T090000
DESCRIPTION:https://www.w3.org/events/meetings/7a1b027a-8c5b-42d1-a224-3ae2
 ddeffec0/\n\nDiscussions on styleable form controls issues\n\nAgenda\n\nWi
 ll be posted to www-style
STATUS:CONFIRMED
CREATED:20240621T211919Z
LAST-MODIFIED:20240627T150000Z
SEQUENCE:0
ORGANIZER;CN=W3C Calendar;PARTSTAT=ACCEPTED;ROLE=NON-PARTICIPANT:mailto:nor
 eply@w3.org
ATTENDEE;CUTYPE=GROUP;ROLE=OPT-PARTICIPANT;RSVP=FALSE;CN=Cascading Style Sh
 eets (CSS) Working Group:mailto:www-style@w3.org
END:VEVENT
END:VCALENDAR
