BEGIN:VCALENDAR
VERSION:2.0
PRODID:-//Sabre//Sabre VObject 4.5.8//EN
CALSCALE:GREGORIAN
LAST-MODIFIED:20251113T133802Z
BEGIN:VTIMEZONE
TZID:Asia/Tokyo
X-MICROSOFT-CDO-TZID:20
BEGIN:STANDARD
DTSTART:20241119T000000
TZOFFSETFROM:+0900
TZOFFSETTO:+0900
TZNAME:JST
END:STANDARD
END:VTIMEZONE
BEGIN:VEVENT
UID:7a1a4a92-fc66-4a17-a56c-979bc1bab3a3
DTSTAMP:20251113T133802Z
SUMMARY:Portable Network Graphics (PNG) Working Group
DTSTART;TZID=Asia/Tokyo:20251114T090000
DTEND;TZID=Asia/Tokyo:20251114T123000
DESCRIPTION:https://www.w3.org/events/meetings/7a1a4a92-fc66-4a17-a56c-979b
 c1bab3a3/\n\nChris Lilley's presentation "PNG Progress" - https://www.w3.o
 rg/2025/Talks/TPAC/PNG-summary/\n\nChris Blume's presentation "PNG 5th Edi
 tion Roadmap" - https://www.programmax.net/talks/png-5th-edition-roadmap/
STATUS:CONFIRMED
CREATED:20250716T142410Z
LAST-MODIFIED:20251113T133802Z
SEQUENCE:8
ORGANIZER;CN=W3C Calendar;PARTSTAT=ACCEPTED;ROLE=NON-PARTICIPANT:mailto:nor
 eply@w3.org
ATTENDEE;CUTYPE=GROUP;ROLE=OPT-PARTICIPANT;RSVP=FALSE;CN=Portable Network G
 raphics (PNG) Working Group:mailto:public-png@w3.org
LOCATION:Floor 3 - 304
CATEGORIES:TPAC 2025,Group Meetings
END:VEVENT
END:VCALENDAR
