BEGIN:VCALENDAR
VERSION:2.0
PRODID:-//Sabre//Sabre VObject 4.5.8//EN
CALSCALE:GREGORIAN
LAST-MODIFIED:20260209T163127Z
BEGIN:VTIMEZONE
TZID:America/New_York
X-MICROSOFT-CDO-TZID:10
BEGIN:DAYLIGHT
DTSTART:20250309T070000
TZOFFSETFROM:-0500
TZOFFSETTO:-0400
TZNAME:EDT
END:DAYLIGHT
BEGIN:DAYLIGHT
DTSTART:20260308T070000
TZOFFSETFROM:-0500
TZOFFSETTO:-0400
TZNAME:EDT
END:DAYLIGHT
BEGIN:STANDARD
DTSTART:20251102T060000
TZOFFSETFROM:-0400
TZOFFSETTO:-0500
TZNAME:EST
END:STANDARD
END:VTIMEZONE
BEGIN:VEVENT
UID:77744cfb-8871-4f30-8d35-78f6a92a6ba9
DTSTAMP:20260209T163127Z
SUMMARY:Research Questions Task Force Weekly Teleconference
DTSTART;TZID=America/New_York:20260211T090000
DTEND;TZID=America/New_York:20260211T095500
DESCRIPTION:https://www.w3.org/events/meetings/77744cfb-8871-4f30-8d35-78f6
 a92a6ba9/20260211T090000/\n\n\n\nAgenda\n\n## Overview\n\nThe main purpose
  of this meeting is to coordinate work on our *Accessibility of Machine Le
 arning and Generative AI* draft\, and to consider related issues that dire
 ctly or indirectly affect the Task Force's activities in this area.\n\nPle
 ase consult the open issues at <https://www.github.com/w3c/ai-accessibilit
 y/issues/>. Append the issue number to this URI to visit the Web page of e
 ach individual issue.\n\n## Agenda\nagenda+ Accessibility of Machine Learn
 ing and Generative AI draft.\n\nagenda+ W3C Web and AI Interest Group.\n\n
 agenda+ Machine learning and generative AI: observations and conclusions.\
 n\nagenda+ Miscellaneous topics.\n\n## References\nSee the [overview page]
 (https://www.w3.org/WAI/APA/task-forces/research-questions/wiki/Overview_o
 f_Current_Work) on the wiki for references to current Task Force documents
 .\n\n* [Accessibility of Machine learning and Generative AI: open issues](
 https://github.com/w3c/ai-accessibility/issues).\n* [Accessibility of Mach
 ine Learning and Generative AI](https://w3c.github.io/ai-accessibility/).\
 n* [Web and AI Interest Group](https://www.w3.org/groups/ig/webai/).\n* Ca
 nadian standard: [Accessible and Equitable Artificial Intelligence Systems
 ](https://accessible.canada.ca/creating-accessibility-standards/asc-62-acc
 essible-equitable-artificial-intelligence-systems?mode=full-html).\n* [Ref
 erences on Accessibility\, Machine Learning and Generative AI](https://www
 .w3.org/WAI/APA/task-forces/research-questions/wiki/References_on_Accessib
 ility\,_Machine_Learning_and_Generative_AI).\n* [Proposed RQTF page on W3C
 /WAI Web site](https://deploy-preview-1018--wai-website.netlify.app/about/
 groups/task-forces/research-questions/).\n* [Recommendations for accessibl
 e captions in 360 degree video](https://w3c.github.io/immersive-captions-c
 g/360-captions/).\n* [Media accessibility User Requirements](https://www.w
 3.org/TR/media-accessibility-reqs/). See also the [new repository location
 ](https://github.com/w3c/maur/).\n* [Media Accessibility User requirements
 : open issues](https://github.com/w3c/maur/issues).\n* [Accessibility Guid
 elines Working Group coordination page](https://www.w3.org/WAI/APA/task-fo
 rces/research-questions/wiki/W3C_Accessibility_Guidelines_3.0\,_Research_C
 oordination).\n* [Inaccessibility of CAPTCHA (Public Working Draft)](https
 ://www.w3.org/TR/turingtest/).\n* [Inaccessibility of CAPTCHA: open issues
 ](https://github.com/w3c/captcha-accessibility/issues).\n* [Natural Langua
 ge Interface Accessibility User Requirements](https://www.w3.org/TR/naur/)
 .\n* [Natural Language Interface Accessibility User Requirements: open iss
 ues](https://github.com/w3c/naur/issues).\n\n## Minutes of Previous Meetin
 g\nPlease see the minutes at <https://www.w3.org/2026/02/04-rqtf-minutes.h
 tml>.\n\n## Key Terms\n* 360-degree video.\n* Immersive captions.\n* Techn
 ical Plenary and Advisory Committee Meetings (TPAC)..\n* Git (revision con
 trol software).\n* GitHub (a Web site/application that hosts Git repositor
 ies).\n* Pull request (a formal request on GitHub to merge changes into th
 e main branch of a Git repository).\n* WYSIWYG ("What You See Is What You 
 Get") editing.\n* CAPTCHA (Completely Automated Public Turing test).\n* Me
 dia and Entertainment Interest Group (MEIG).\n* Web Content Accessibility 
 Guidelines (WCAG).\n* Accessibility Guidelines Working Group (AGWG).\n* Ve
 rsion 3\, sometimes referred to as "Silver".\n* Accessible Platform Archit
 ectures (APA) Working Group.\n* Media Accessibility User requirements (MAU
 R).\n* Captions\; audio descriptions\; transcripts.\n* Learning and Cognit
 ive Disabilities Accessibility Task Force ("COGA").\n* Artificial intellig
 ence (AI) and machine learning (ML).\n    * Generative AI.\n* Wiki page.
STATUS:CONFIRMED
CREATED:20260209T163127Z
LAST-MODIFIED:20260209T163127Z
SEQUENCE:0
ORGANIZER;CN=W3C Calendar;PARTSTAT=ACCEPTED;ROLE=NON-PARTICIPANT:mailto:nor
 eply@w3.org
ATTENDEE;CUTYPE=GROUP;ROLE=OPT-PARTICIPANT;RSVP=FALSE;CN=Research Questions
  Task Force:mailto:public-rqtf@w3.org
RECURRENCE-ID;TZID=America/New_York:20260211T090000
END:VEVENT
END:VCALENDAR
