BEGIN:VCALENDAR
VERSION:2.0
PRODID:-//Sabre//Sabre VObject 4.5.8//EN
CALSCALE:GREGORIAN
LAST-MODIFIED:20251103T174438Z
BEGIN:VTIMEZONE
TZID:Asia/Tokyo
X-MICROSOFT-CDO-TZID:20
BEGIN:STANDARD
DTSTART:20241116T004500
TZOFFSETFROM:+0900
TZOFFSETTO:+0900
TZNAME:JST
END:STANDARD
END:VTIMEZONE
BEGIN:VEVENT
UID:775981da-ea46-4db2-840d-8995414c29e0
DTSTAMP:20251103T174438Z
SUMMARY:Internationalization Working Group
DTSTART;TZID=Asia/Tokyo:20251111T094500
DTEND;TZID=Asia/Tokyo:20251111T180000
DESCRIPTION:https://www.w3.org/events/meetings/775981da-ea46-4db2-840d-8995
 414c29e0/\n\n
STATUS:CONFIRMED
CREATED:20250716T142311Z
LAST-MODIFIED:20251103T174438Z
SEQUENCE:7
ORGANIZER;CN=W3C Calendar;PARTSTAT=ACCEPTED;ROLE=NON-PARTICIPANT:mailto:nor
 eply@w3.org
ATTENDEE;CUTYPE=GROUP;ROLE=OPT-PARTICIPANT;RSVP=FALSE;CN=Internationalizati
 on Working Group:mailto:public-i18n-core@w3.org
LOCATION:Floor 3 - 305
CATEGORIES:TPAC 2025,Group Meetings
END:VEVENT
END:VCALENDAR
