BEGIN:VCALENDAR
VERSION:2.0
PRODID:-//Sabre//Sabre VObject 4.5.8//EN
CALSCALE:GREGORIAN
LAST-MODIFIED:20230916T082411Z
BEGIN:VTIMEZONE
TZID:Europe/Madrid
BEGIN:STANDARD
DTSTART:20221030T010000
TZOFFSETFROM:+0200
TZOFFSETTO:+0100
TZNAME:CET
END:STANDARD
BEGIN:STANDARD
DTSTART:20231029T010000
TZOFFSETFROM:+0200
TZOFFSETTO:+0100
TZNAME:CET
END:STANDARD
BEGIN:DAYLIGHT
DTSTART:20230326T010000
TZOFFSETFROM:+0100
TZOFFSETTO:+0200
TZNAME:CEST
END:DAYLIGHT
END:VTIMEZONE
BEGIN:VEVENT
UID:76aed065-e52f-4cb3-9b8c-54582e75548a
DTSTAMP:20230916T082411Z
SUMMARY:Verifiable Credentials WG
DTSTART;TZID=Europe/Madrid:20230915T093000
DTEND;TZID=Europe/Madrid:20230915T183000
DESCRIPTION:https://www.w3.org/events/meetings/76aed065-e52f-4cb3-9b8c-5458
 2e75548a/\n\n\n\nAgenda\n\n|Start |End |Topic |Time |\n|---------------|--
 -----------|--------------------------------------------------------------
 ---------------|-------|\n|9:30|	9:45|	Day 2 Welcome		|15|\n|-------------
 --|-------------|---------------------------------------------------------
 --------------------|-------|\n|9:45	|11:00|	VC Status List		|75|\n|------
 ---------|-------------|--------------------------------------------------
 ---------------------------|-------|\n|11:00|	11:30|	Break	|	30|\n|-------
 --------|-------------|---------------------------------------------------
 --------------------------|-------|\n|11:30|	12:00|	Web Wallets in WICG		|
 30|\n|---------------|-------------|--------------------------------------
 ---------------------------------------|-------|\n|12:00|	13:00|	PING		|60
 |\n|---------------|-------------|----------------------------------------
 -------------------------------------|-------|\n|13:00|	14:30|	Lunch		|90|
 \n|---------------|-------------|-----------------------------------------
 ------------------------------------|-------|\n|14:30|	15:30|	Plan for CR	
 |	60|\n|---------------|-------------|------------------------------------
 -----------------------------------------|-------|\n|15:30|	16:30|	Test Su
 ites	|	60|\n|---------------|-------------|-------------------------------
 ----------------------------------------------|-------|\n|16:30|	17:00|	Br
 eak		|30|\n|---------------|-------------|--------------------------------
 ---------------------------------------------|-------|\n|17:00         | 1
 7:15 | GSMA Liaison statement | 15 |\n|17:15         |	18:30     |TBD (pos
 sibly Use Cases and Implementation Guide)	|75|\n|---------------|---------
 ----|---------------------------------------------------------------------
 --------|-------|
STATUS:CONFIRMED
CREATED:20230612T163144Z
LAST-MODIFIED:20230916T082411Z
SEQUENCE:1
ORGANIZER;CN=W3C Calendar;PARTSTAT=ACCEPTED;ROLE=NON-PARTICIPANT:mailto:nor
 eply@w3.org
ATTENDEE;CUTYPE=GROUP;ROLE=OPT-PARTICIPANT;RSVP=FALSE;CN=Verifiable Credent
 ials Working Group:mailto:public-vc-wg@w3.org
LOCATION:Magnolia\, Low Level
CATEGORIES:TPAC 2023,Group Meetings
END:VEVENT
END:VCALENDAR
