BEGIN:VCALENDAR
VERSION:2.0
PRODID:-//Sabre//Sabre VObject 4.5.8//EN
CALSCALE:GREGORIAN
LAST-MODIFIED:20210506T134056Z
BEGIN:VTIMEZONE
TZID:America/Los_Angeles
X-MICROSOFT-CDO-TZID:13
BEGIN:STANDARD
DTSTART:20201101T090000
TZOFFSETFROM:-0700
TZOFFSETTO:-0800
TZNAME:PST
END:STANDARD
BEGIN:STANDARD
DTSTART:20211107T090000
TZOFFSETFROM:-0700
TZOFFSETTO:-0800
TZNAME:PST
END:STANDARD
BEGIN:DAYLIGHT
DTSTART:20210314T100000
TZOFFSETFROM:-0800
TZOFFSETTO:-0700
TZNAME:PDT
END:DAYLIGHT
END:VTIMEZONE
BEGIN:VEVENT
UID:75f743b1-4633-4bc4-a244-2b2ca655554e
DTSTAMP:20210506T134056Z
SUMMARY:ARIA Deep Dive - aria-roledescription
DTSTART;TZID=America/Los_Angeles:20210506T090000
DTEND;TZID=America/Los_Angeles:20210506T095000
DESCRIPTION:https://www.w3.org/events/meetings/75f743b1-4633-4bc4-a244-2b2c
 a655554e/\n\nProposed by Stefan.\n\n* https://github.com/w3c/aria/issues/1
 132\n* https://github.com/w3c/aria/issues/1373\n* https://github.com/w3c/a
 ria/issues/1372\n\nAgenda\n\nDiscuss aria-roledescription\n* https://githu
 b.com/w3c/aria/issues/1132\n* https://github.com/w3c/aria/issues/1373\n* h
 ttps://github.com/w3c/aria/issues/1372
STATUS:CONFIRMED
CREATED:20210505T164058Z
LAST-MODIFIED:20210506T134056Z
SEQUENCE:1
ORGANIZER;CN=W3C Calendar;PARTSTAT=ACCEPTED;ROLE=NON-PARTICIPANT:mailto:nor
 eply@w3.org
ATTENDEE;CUTYPE=GROUP;ROLE=OPT-PARTICIPANT;RSVP=FALSE;CN=Accessible Rich In
 ternet Applications Working Group:mailto:public-aria@w3.org
END:VEVENT
END:VCALENDAR
