BEGIN:VCALENDAR
VERSION:2.0
PRODID:-//Sabre//Sabre VObject 4.5.8//EN
CALSCALE:GREGORIAN
LAST-MODIFIED:20260303T155132Z
BEGIN:VTIMEZONE
TZID:America/Los_Angeles
X-MICROSOFT-CDO-TZID:13
BEGIN:STANDARD
DTSTART:20251102T090000
TZOFFSETFROM:-0700
TZOFFSETTO:-0800
TZNAME:PST
END:STANDARD
BEGIN:DAYLIGHT
DTSTART:20260308T100000
TZOFFSETFROM:-0800
TZOFFSETTO:-0700
TZNAME:PDT
END:DAYLIGHT
END:VTIMEZONE
BEGIN:VEVENT
UID:75c20f9e-51af-4b1c-91fe-f22170877b88
DTSTAMP:20260303T155132Z
SUMMARY:CSSWG Values breakout
DTSTART;TZID=America/Los_Angeles:20260304T080000
DTEND;TZID=America/Los_Angeles:20260304T090000
DESCRIPTION:https://www.w3.org/events/meetings/75c20f9e-51af-4b1c-91fe-f221
 70877b88/\n\nExtra hour for values-related issues\n\nAgenda\n\nWill be pos
 ted to www-style
STATUS:CONFIRMED
CREATED:20260303T155129Z
LAST-MODIFIED:20260303T155132Z
SEQUENCE:0
ORGANIZER;CN=W3C Calendar;PARTSTAT=ACCEPTED;ROLE=NON-PARTICIPANT:mailto:nor
 eply@w3.org
ATTENDEE;CUTYPE=GROUP;ROLE=OPT-PARTICIPANT;RSVP=FALSE;CN=Cascading Style Sh
 eets (CSS) Working Group:mailto:www-style@w3.org
LOCATION:Zoom
END:VEVENT
END:VCALENDAR
