BEGIN:VCALENDAR
VERSION:2.0
PRODID:-//Sabre//Sabre VObject 4.5.8//EN
CALSCALE:GREGORIAN
LAST-MODIFIED:20260219T072223Z
BEGIN:VTIMEZONE
TZID:Asia/Tokyo
X-MICROSOFT-CDO-TZID:20
BEGIN:STANDARD
DTSTART:20241115T233000
TZOFFSETFROM:+0900
TZOFFSETTO:+0900
TZNAME:JST
END:STANDARD
END:VTIMEZONE
BEGIN:VEVENT
UID:758666a3-cb69-443b-a93d-934fe9c17f7f
DTSTAMP:20260219T072223Z
SUMMARY:DOM Localization
DTSTART;TZID=Asia/Tokyo:20251111T083000
DTEND;TZID=Asia/Tokyo:20251111T093000
DESCRIPTION:https://www.w3.org/events/meetings/758666a3-cb69-443b-a93d-934f
 e9c17f7f/\n\nUsers of the web are best served by being able to experience 
 it in their native languages. Currently\, localization of web content is a
 chieved with a multitude of custom solutions\, most of which are unable to
  express the full depth and breadth of human expressions in all languages.
  Introducing an easy-to-use but powerful standard localization solution wo
 uld improve the experience of all users\, in particular the vast majority 
 who do not speak English natively.\n\nThis session is a continuation of th
 e [2023 breakout session](https://www.w3.org/events/meetings/4fd28161-058b
 -4daa-9618-d1893be9c39c/). Since then\, the Unicode MessageFormat standard
  has been published as a [part of Unicode Technical Standard #35](https://
 unicode.org/reports/tr35/tr35-messageFormat.html) and the [DOM Localizatio
 n explainer](https://github.com/mozilla/explainers/blob/main/dom-localizat
 ion.md) has been updated. It has also become clear that a web-compatible f
 ile format for localization resources needs to be identified as a part of 
 the work towards DOM localization\, or a new file format needs to be speci
 fied.\n\n**Goal(s):**\nCollect comments on the proposal and recruit intere
 sts to work on the standard.\n\nAgenda\n\n**Big Questions:**\n1. Should we
  work on introducing localization as a capability of the web platform?\n2.
  Is the Internationalization WG an appropriate forum for standardizing the
  message resource file format?\n3. How specific to localization should the
  HTML capabilities be?\n\n**Materials:**\n- [Introductory slides](https://
 docs.google.com/presentation/d/1ON2yeocyDSVr8r0cg8ZlhgpFfsvloznq1pJqYSADJs
 8/edit?usp=sharing)\n- [Session proposal on GitHub](https://github.com/w3c
 /tpac2025-breakouts/issues/67)
STATUS:CONFIRMED
CREATED:20251028T131556Z
LAST-MODIFIED:20260219T072223Z
SEQUENCE:3
ORGANIZER;CN=W3C Calendar;PARTSTAT=ACCEPTED;ROLE=NON-PARTICIPANT:mailto:nor
 eply@w3.org
LOCATION:Floor 3 - 303
CATEGORIES:TPAC 2025,Breakout Sessions
END:VEVENT
END:VCALENDAR
