BEGIN:VCALENDAR
VERSION:2.0
PRODID:-//Sabre//Sabre VObject 4.5.8//EN
CALSCALE:GREGORIAN
LAST-MODIFIED:20240403T191411Z
BEGIN:VTIMEZONE
TZID:America/Los_Angeles
X-MICROSOFT-CDO-TZID:13
BEGIN:STANDARD
DTSTART:20231105T090000
TZOFFSETFROM:-0700
TZOFFSETTO:-0800
TZNAME:PST
END:STANDARD
BEGIN:STANDARD
DTSTART:20241103T090000
TZOFFSETFROM:-0700
TZOFFSETTO:-0800
TZNAME:PST
END:STANDARD
BEGIN:DAYLIGHT
DTSTART:20240310T100000
TZOFFSETFROM:-0800
TZOFFSETTO:-0700
TZNAME:PDT
END:DAYLIGHT
END:VTIMEZONE
BEGIN:VEVENT
UID:74b08985-d615-46d4-a52c-da0071b133c1
DTSTAMP:20240403T191411Z
SUMMARY:W3C Process CG Call
DTSTART;TZID=America/Los_Angeles:20240410T070000
DTEND;TZID=America/Los_Angeles:20240410T080000
DESCRIPTION:https://www.w3.org/events/meetings/74b08985-d615-46d4-a52c-da00
 71b133c1/20240410T070000/\n\n(conflicts with AC/meetingAB f2f)\n\nAgenda: 
 https://www.w3.org/Search/Mail/Public/search?keywords=&hdr-1-name=subject&
 hdr-1-query=Agenda&index-grp=Public_FULL&index-type=t&type-index=public-w3
 process
STATUS:CANCELLED
CREATED:20240327T140504Z
LAST-MODIFIED:20240403T191411Z
SEQUENCE:2
ORGANIZER;CN=W3C Calendar;PARTSTAT=ACCEPTED;ROLE=NON-PARTICIPANT:mailto:nor
 eply@w3.org
ATTENDEE;CUTYPE=GROUP;ROLE=OPT-PARTICIPANT;RSVP=FALSE;CN=W3C Process Commun
 ity Group:mailto:public-w3process@w3.org
RECURRENCE-ID;TZID=America/Los_Angeles:20240410T070000
END:VEVENT
END:VCALENDAR
