BEGIN:VCALENDAR
VERSION:2.0
PRODID:-//Sabre//Sabre VObject 4.5.8//EN
CALSCALE:GREGORIAN
LAST-MODIFIED:20251109T191615Z
BEGIN:VTIMEZONE
TZID:Asia/Tokyo
X-MICROSOFT-CDO-TZID:20
BEGIN:STANDARD
DTSTART:20241119T050000
TZOFFSETFROM:+0900
TZOFFSETTO:+0900
TZNAME:JST
END:STANDARD
END:VTIMEZONE
BEGIN:VEVENT
UID:74a9c227-1515-49ac-b74d-de53f46f8af9
DTSTAMP:20251109T191615Z
SUMMARY:Technical Architecture Group
DTSTART;TZID=Asia/Tokyo:20251114T140000
DTEND;TZID=Asia/Tokyo:20251114T180000
DESCRIPTION:https://www.w3.org/events/meetings/74a9c227-1515-49ac-b74d-de53
 f46f8af9/\n\n**This is a _closed_ session. Only TAG members and TAG Associ
 ates may attend.** \n\nWe will debrief from the week. Bring notes on inter
 esting stuff that happened in meetings you attended.
STATUS:CONFIRMED
CREATED:20250716T142345Z
LAST-MODIFIED:20251109T191615Z
SEQUENCE:9
ORGANIZER;CN=W3C Calendar;PARTSTAT=ACCEPTED;ROLE=NON-PARTICIPANT:mailto:nor
 eply@w3.org
ATTENDEE;CUTYPE=GROUP;ROLE=OPT-PARTICIPANT;RSVP=FALSE;CN=Technical Architec
 ture Group:mailto:tag@w3.org
LOCATION:Floor 3 - 303
CATEGORIES:TPAC 2025,Group Meetings
END:VEVENT
END:VCALENDAR
