BEGIN:VCALENDAR
VERSION:2.0
PRODID:-//Sabre//Sabre VObject 4.5.8//EN
CALSCALE:GREGORIAN
LAST-MODIFIED:20250326T155332Z
BEGIN:VTIMEZONE
TZID:Etc/UTC
BEGIN:STANDARD
DTSTART:20240413T160000
TZOFFSETFROM:+0000
TZOFFSETTO:+0000
TZNAME:UTC
END:STANDARD
END:VTIMEZONE
BEGIN:VEVENT
UID:73f80237-d723-487d-9269-24202eca8632
DTSTAMP:20250326T155332Z
SUMMARY:W3C [PBG] Meeting - Americas/Europe
DTSTART;TZID=Etc/UTC:20250408T160000
DTEND;TZID=Etc/UTC:20250408T170000
DESCRIPTION:https://www.w3.org/events/meetings/73f80237-d723-487d-9269-2420
 2eca8632/\n\nRegular PBG meeting\n\nAgenda\n\nto be sent via email
STATUS:CONFIRMED
CREATED:20250326T155256Z
LAST-MODIFIED:20250326T155332Z
SEQUENCE:1
ORGANIZER;CN=W3C Calendar;PARTSTAT=ACCEPTED;ROLE=NON-PARTICIPANT:mailto:nor
 eply@w3.org
ATTENDEE;CUTYPE=GROUP;ROLE=OPT-PARTICIPANT;RSVP=FALSE;CN=Publishing Busines
 s Group:mailto:public-publishingbg@w3.org
LOCATION:Virtual
END:VEVENT
END:VCALENDAR
