BEGIN:VCALENDAR
VERSION:2.0
PRODID:-//Sabre//Sabre VObject 4.5.8//EN
CALSCALE:GREGORIAN
LAST-MODIFIED:20231005T184727Z
BEGIN:VTIMEZONE
TZID:America/Los_Angeles
X-MICROSOFT-CDO-TZID:13
BEGIN:STANDARD
DTSTART:20221106T090000
TZOFFSETFROM:-0700
TZOFFSETTO:-0800
TZNAME:PST
END:STANDARD
BEGIN:STANDARD
DTSTART:20231105T090000
TZOFFSETFROM:-0700
TZOFFSETTO:-0800
TZNAME:PST
END:STANDARD
BEGIN:DAYLIGHT
DTSTART:20230312T100000
TZOFFSETFROM:-0800
TZOFFSETTO:-0700
TZNAME:PDT
END:DAYLIGHT
END:VTIMEZONE
BEGIN:VEVENT
UID:73db98be-5f97-4ff8-a4b1-c689a93f0784
DTSTAMP:20231005T184727Z
SUMMARY:ARIA and Assistive Technologies Community Group Weekly Teleconferen
 ce
DTSTART;TZID=America/Los_Angeles:20231005T120000
DTEND;TZID=America/Los_Angeles:20231005T130000
DESCRIPTION:https://www.w3.org/events/meetings/73db98be-5f97-4ff8-a4b1-c689
 a93f0784/20231005T120000/\n\nWeekly meeting focused primarily on generatin
 g ARIA-AT reports via manual testing. Alternates between an earlier Wednes
 day time one week and later Thursday time the next.\n\nAgenda: https://git
 hub.com/w3c/aria-at/wiki/October-5%2C-2023-Agenda\n\nAgenda\n\n### Review 
 agenda and next meeting dates\n\n* Requests for changes to agenda?\n* Next
  CG Meeting: Wednesday October 11\n* Next AT Driver subgroup meeting on Mo
 nday October 23\n* No AT Driver meeting on October 9\n\n### Update on ARIA
 -AT site changes\n\n* On Tuesday\, The Bocoup team deployed a major set of
  changes to the [aria-at site](https://aria-at.w3.org/data-management)\n* 
 Explain the new features and their impact on the aria-at project\n* [There
  are 10 known bugs](https://github.com/w3c/aria-at-app/issues?q=is%3Aissue
 +is%3Aopen++label%3Abug++created%3A%3E2023-09-01+)\n* Next deployment tent
 atively planned for October 12\n\n### Issue 809 - Define required AT versi
 ons for reporting on recommended test plans\n\nWhile working on requiremen
 ts for [Update test queue to support generating reports that require a spe
 cific AT or browser version · Issue #791](https://github.com/w3c/aria-at-
 app/issues/791)\, I got blocked on the need to [Define required AT version
 s for reporting on recommended test plans · Issue #809 · w3c/aria-at-app
 ](https://github.com/w3c/aria-at-app/issues/809).
STATUS:CONFIRMED
CREATED:20230921T214735Z
LAST-MODIFIED:20231005T184727Z
SEQUENCE:1
ORGANIZER;CN=W3C Calendar;PARTSTAT=ACCEPTED;ROLE=NON-PARTICIPANT:mailto:nor
 eply@w3.org
ATTENDEE;CUTYPE=GROUP;ROLE=OPT-PARTICIPANT;RSVP=FALSE;CN=ARIA and Assistive
  Technologies Community Group:mailto:public-aria-at@w3.org
RECURRENCE-ID;TZID=America/Los_Angeles:20231005T120000
END:VEVENT
END:VCALENDAR
