BEGIN:VCALENDAR
VERSION:2.0
PRODID:-//Sabre//Sabre VObject 4.5.8//EN
CALSCALE:GREGORIAN
LAST-MODIFIED:20230615T182938Z
BEGIN:VTIMEZONE
TZID:America/Los_Angeles
X-MICROSOFT-CDO-TZID:13
BEGIN:STANDARD
DTSTART:20221106T090000
TZOFFSETFROM:-0700
TZOFFSETTO:-0800
TZNAME:PST
END:STANDARD
BEGIN:STANDARD
DTSTART:20231105T090000
TZOFFSETFROM:-0700
TZOFFSETTO:-0800
TZNAME:PST
END:STANDARD
BEGIN:DAYLIGHT
DTSTART:20230312T100000
TZOFFSETFROM:-0800
TZOFFSETTO:-0700
TZNAME:PDT
END:DAYLIGHT
END:VTIMEZONE
BEGIN:VEVENT
UID:73db98be-5f97-4ff8-a4b1-c689a93f0784
DTSTAMP:20230615T182938Z
SUMMARY:ARIA and Assistive Technologies Community Group Weekly Teleconferen
 ce
DTSTART;TZID=America/Los_Angeles:20230615T120000
DTEND;TZID=America/Los_Angeles:20230615T130000
DESCRIPTION:https://www.w3.org/events/meetings/73db98be-5f97-4ff8-a4b1-c689
 a93f0784/20230615T120000/\n\nWeekly meeting focused primarily on generatin
 g ARIA-AT reports via manual testing. Alternates between an earlier Wednes
 day time one week and later Thursday time the next.\n\nAgenda\n\n### Navig
 ation menu button: conflicting test results\n\n* [Feedback: "Open a menu i
 n interaction mode" (Navigation Menu Button\, Test 11) · Issue #960 · w3
 c/aria-at](https://github.com/w3c/aria-at/issues/960)\n* [Inconsistent ann
 ouncement of W3C Quick Links Menu "Open a menu in interaction mode" (Navig
 ation Menu Button\, Test 11) · Issue #959 · w3c/aria-at](https://github.
 com/w3c/aria-at/issues/959)\n\n### Slider: conflicting test results\n\n* [
 Feedback: "Increment a slider by one step in interaction mode" (Color View
 er Slider\, Test 10) · Issue #955 · w3c/aria-at](https://github.com/w3c/
 aria-at/issues/955)\n* [Feedback: "Navigate forwards to a slider" (Color V
 iewer Slider\, Test 5) · Issue #956 · w3c/aria-at](https://github.com/w3
 c/aria-at/issues/956)\n\n### Test queue clean up\n\n* Publish complete rep
 orts.\n* Assign work to available testers.\n* Discuss moving to working mo
 del where the test queue represents only currently active testing prioriti
 es:\n    * Runs where testers are assigned and/or currently testing\n    *
  A short list of runs\, one or two plans\, that represent the next testing
  priorities.
STATUS:CONFIRMED
CREATED:20230615T182758Z
LAST-MODIFIED:20230615T182938Z
SEQUENCE:1
ORGANIZER;CN=W3C Calendar;PARTSTAT=ACCEPTED;ROLE=NON-PARTICIPANT:mailto:nor
 eply@w3.org
ATTENDEE;CUTYPE=GROUP;ROLE=OPT-PARTICIPANT;RSVP=FALSE;CN=ARIA and Assistive
  Technologies Community Group:mailto:public-aria-at@w3.org
RECURRENCE-ID;TZID=America/Los_Angeles:20230615T120000
END:VEVENT
END:VCALENDAR
