BEGIN:VCALENDAR
VERSION:2.0
PRODID:-//Sabre//Sabre VObject 4.5.8//EN
CALSCALE:GREGORIAN
LAST-MODIFIED:20251114T043126Z
BEGIN:VTIMEZONE
TZID:Asia/Tokyo
X-MICROSOFT-CDO-TZID:20
BEGIN:STANDARD
DTSTART:20241118T044500
TZOFFSETFROM:+0900
TZOFFSETTO:+0900
TZNAME:JST
END:STANDARD
END:VTIMEZONE
BEGIN:VEVENT
UID:73a2b8ee-b00c-4389-b3de-61d871fbddf8
DTSTAMP:20251114T043126Z
SUMMARY:Devices and Sensors Working Group
DTSTART;TZID=Asia/Tokyo:20251113T134500
DTEND;TZID=Asia/Tokyo:20251113T164500
DESCRIPTION:https://www.w3.org/events/meetings/73a2b8ee-b00c-4389-b3de-61d8
 71fbddf8/\n\n\n\nAgenda: https://github.com/w3c/das-wg/issues/76
STATUS:CONFIRMED
CREATED:20250716T142543Z
LAST-MODIFIED:20251114T043126Z
SEQUENCE:7
ORGANIZER;CN=W3C Calendar;PARTSTAT=ACCEPTED;ROLE=NON-PARTICIPANT:mailto:nor
 eply@w3.org
ATTENDEE;CUTYPE=GROUP;ROLE=OPT-PARTICIPANT;RSVP=FALSE;CN=Devices and Sensor
 s Working Group:mailto:public-device-apis@w3.org
LOCATION:Floor 5 - 504
CATEGORIES:TPAC 2025,Group Meetings
END:VEVENT
END:VCALENDAR
