BEGIN:VCALENDAR
VERSION:2.0
PRODID:-//Sabre//Sabre VObject 4.5.8//EN
CALSCALE:GREGORIAN
LAST-MODIFIED:20220914T190055Z
BEGIN:VTIMEZONE
TZID:America/Vancouver
BEGIN:STANDARD
DTSTART:20211107T090000
TZOFFSETFROM:-0700
TZOFFSETTO:-0800
TZNAME:PST
END:STANDARD
BEGIN:STANDARD
DTSTART:20221106T090000
TZOFFSETFROM:-0700
TZOFFSETTO:-0800
TZNAME:PST
END:STANDARD
BEGIN:DAYLIGHT
DTSTART:20220313T100000
TZOFFSETFROM:-0800
TZOFFSETTO:-0700
TZNAME:PDT
END:DAYLIGHT
END:VTIMEZONE
BEGIN:VEVENT
UID:73367040-142a-470c-963b-a5a4b855c04f
DTSTAMP:20220914T190055Z
SUMMARY:Same Party Federation (SSO)
DTSTART;TZID=America/Vancouver:20220914T133000
DTEND;TZID=America/Vancouver:20220914T143000
DESCRIPTION:https://www.w3.org/events/meetings/73367040-142a-470c-963b-a5a4
 b855c04f/\n\nShort and long term\, how should login to X with (an associat
 ed) Y work? e.g. login to instagram.com with facebook.com\, audible.com wi
 th amazon.com\, youtube.com with google.com and xbox.com/office.com with m
 icrosoft.com. Explicitly out of scope of the discussion: ccTLDs X/Y (e.g. 
 login to example.ca with example.co.uk) and other FPS subsets.\n\nAgenda\n
 \n**Facilitators & speakers**: Sam Goto\, Johann Hofmann\n\n**Session type
 **: open discussion\n\n**Summary**: Short and long term\, how should login
  to X with (an associated) Y work? e.g. login to instagram.com with facebo
 ok.com\, audible.com with amazon.com\, youtube.com with google.com and xbo
 x.com/office.com with microsoft.com. Explicitly out of scope of the discus
 sion: ccTLDs X/Y (e.g. login to example.ca with example.co.uk) and other F
 PS subsets.\n\n**Goals**:\n- gather UX considerations (prompts? auto-grant
 ?)\, API considerations (e.g. Storage Access API?\, First Party Sets?\, Fe
 dCM?) and deployment considerations (e.g. what's the cardinality of these 
 sets?).\n\nJoining Instructions: https://us02web.zoom.us/j/3461096425?pwd=
 OUN6UkducnIxSmplWG9jNXdPSkZTUT09\n\nChat\n\nhttps://irc.w3.org/?channels=%
 23SamePartyFederation
STATUS:CONFIRMED
CREATED:20220909T111708Z
LAST-MODIFIED:20220914T190055Z
SEQUENCE:1
ORGANIZER;CN=W3C Calendar;PARTSTAT=ACCEPTED;ROLE=NON-PARTICIPANT:mailto:nor
 eply@w3.org
ATTENDEE;CN=Vittorio Bertocci:mailto:vittorio@auth0.com
ATTENDEE;CN=Christian Biesinger:mailto:cbiesinger@google.com
ATTENDEE;CN=Arnar Birgisson:mailto:arnarb@google.com
ATTENDEE;CN=Aykut Bulut:mailto:aykutb@google.com
ATTENDEE;CN=Judith Bush:mailto:idpro@grey-cat.com
ATTENDEE;CN=Brian Campbell:mailto:bcampbell@pingidentity.com
ATTENDEE;CN=Tim Cappalli:mailto:timcappalli@cloudauth.dev
ATTENDEE;CN=Gabe Cohen:mailto:gabe.l.cohen@gmail.com
ATTENDEE;CN=Alex Cone:mailto:alex.cone@iabtechlab.com
ATTENDEE;CN=Domenic Denicola:mailto:d@domenic.me
ATTENDEE;CN=Nick Doty:mailto:ndoty@cdt.org
ATTENDEE;CN=Chris Fredrickson:mailto:cfredric@google.com
ATTENDEE;CN=Yi Gu:mailto:yigu@google.com
ATTENDEE;CN=Johann Hofmann:mailto:johannhof@google.com
ATTENDEE;CN=Kousuke Koiwai:mailto:ko-koiwai@kddi.com
ATTENDEE;CN=Don Le:mailto:donle@article19.org
ATTENDEE;CN=Kitior Ngu:mailto:kitior@google.com
ATTENDEE;CN=Vincent Scheib:mailto:scheib@google.com
ATTENDEE;CN=Joshua Ssengonzi:mailto:joshuas@defenddefenders.org
ATTENDEE;CN=Zachary Tan:mailto:tanzachary@google.com
ATTENDEE;CN=Jeffrey Yasskin:mailto:jyasskin@google.com
ATTENDEE;CN=Benjamin Young:mailto:byoung@bigbluehat.com
LOCATION:Junior A — North Tower 3rd floor
CATEGORIES:TPAC 2022,Breakout Sessions
END:VEVENT
END:VCALENDAR
