BEGIN:VCALENDAR
VERSION:2.0
PRODID:-//Sabre//Sabre VObject 4.5.8//EN
CALSCALE:GREGORIAN
LAST-MODIFIED:20251112T094309Z
BEGIN:VTIMEZONE
TZID:Asia/Tokyo
X-MICROSOFT-CDO-TZID:20
BEGIN:STANDARD
DTSTART:20241116T004500
TZOFFSETFROM:+0900
TZOFFSETTO:+0900
TZNAME:JST
END:STANDARD
END:VTIMEZONE
BEGIN:VEVENT
UID:72fcd843-c3ea-400d-80b5-115202deb224
DTSTAMP:20251112T094309Z
SUMMARY:Timed Text WG
DTSTART;TZID=Asia/Tokyo:20251111T094500
DTEND;TZID=Asia/Tokyo:20251111T180000
DESCRIPTION:https://www.w3.org/events/meetings/72fcd843-c3ea-400d-80b5-1152
 02deb224/\n\n\n\nAgenda: https://github.com/w3c/ttwg/issues/323\n\nAgenda\
 n\n(subject to change on the day!)\n\n09:45-10:00 - Introductions and Agen
 da bash\n10:00-10:30 - IMSC 1.3\n10:30-11:00 - Regulatory changes and new 
 API proposal (Apple)\n\n11:00-11:30 - Break\n\n11:30-12:00 - DAPT issues a
 nd pull requests\n12:00-12:30 - WebVTT interop testing\n12:30-13:00 - Subt
 itle purpose field in TV-Anytime\n\n13:00-14:15 - Lunch\n\n14:15-14:45 - T
 TML Profile registry - make it into a proper modern-style Registry?\n14:45
 -15:15 - Joint meeting follow-ups and planning\n\n16:00-16:30 - Break\n\n1
 6:30-18:00 - Wrap up and next steps\, AOB
STATUS:CONFIRMED
CREATED:20250716T142340Z
LAST-MODIFIED:20251112T094309Z
SEQUENCE:8
ORGANIZER;CN=W3C Calendar;PARTSTAT=ACCEPTED;ROLE=NON-PARTICIPANT:mailto:nor
 eply@w3.org
ATTENDEE;CUTYPE=GROUP;ROLE=OPT-PARTICIPANT;RSVP=FALSE;CN=Timed Text Working
  Group:mailto:public-tt@w3.org
LOCATION:Floor 3 - 306
CATEGORIES:TPAC 2025,Group Meetings
END:VEVENT
END:VCALENDAR
