BEGIN:VCALENDAR
VERSION:2.0
PRODID:-//Sabre//Sabre VObject 4.5.8//EN
CALSCALE:GREGORIAN
LAST-MODIFIED:20251103T174428Z
BEGIN:VTIMEZONE
TZID:Asia/Tokyo
X-MICROSOFT-CDO-TZID:20
BEGIN:STANDARD
DTSTART:20241118T000000
TZOFFSETFROM:+0900
TZOFFSETTO:+0900
TZNAME:JST
END:STANDARD
END:VTIMEZONE
BEGIN:VEVENT
UID:72faf9e3-b921-4a82-a16c-0c90f94187db
DTSTAMP:20251103T174428Z
SUMMARY:Web Payment Security Interest Group
DTSTART;TZID=Asia/Tokyo:20251113T090000
DTEND;TZID=Asia/Tokyo:20251113T150000
DESCRIPTION:https://www.w3.org/events/meetings/72faf9e3-b921-4a82-a16c-0c90
 f94187db/\n\n\n\nAgenda: https://www.w3.org/securepay/wiki/Meeting/Nov2025
STATUS:CONFIRMED
CREATED:20250716T142302Z
LAST-MODIFIED:20251103T174428Z
SEQUENCE:8
ORGANIZER;CN=W3C Calendar;PARTSTAT=ACCEPTED;ROLE=NON-PARTICIPANT:mailto:nor
 eply@w3.org
ATTENDEE;CUTYPE=GROUP;ROLE=OPT-PARTICIPANT;RSVP=FALSE;CN=Web Payment Securi
 ty Interest Group:mailto:member-wpsig@w3.org
LOCATION:Floor 4 - 405
CATEGORIES:TPAC 2025,Group Meetings
END:VEVENT
END:VCALENDAR
