BEGIN:VCALENDAR
VERSION:2.0
PRODID:-//Sabre//Sabre VObject 4.5.8//EN
CALSCALE:GREGORIAN
LAST-MODIFIED:20251113T021650Z
BEGIN:VTIMEZONE
TZID:Asia/Tokyo
X-MICROSOFT-CDO-TZID:20
BEGIN:STANDARD
DTSTART:20241119T000000
TZOFFSETFROM:+0900
TZOFFSETTO:+0900
TZNAME:JST
END:STANDARD
END:VTIMEZONE
BEGIN:VEVENT
UID:72ac91c8-aede-4efa-8ab3-827eba494cb9
DTSTAMP:20251113T021650Z
SUMMARY:Federated Identity Working Group
DTSTART;TZID=Asia/Tokyo:20251114T090000
DTEND;TZID=Asia/Tokyo:20251114T123000
DESCRIPTION:https://www.w3.org/events/meetings/72ac91c8-aede-4efa-8ab3-827e
 ba494cb9/\n\nScribing doc: https://docs.google.com/document/d/1LImXV_1l63t
 haTm30YZ_eGm7Q82fBoaKQQbSzR9NKPY/edit?usp=sharing\n\nAgenda: https://githu
 b.com/w3c-fedid/meetings/blob/main/2025/2025-11-13-DCAPI-agenda.md
STATUS:CONFIRMED
CREATED:20250812T182731Z
LAST-MODIFIED:20251113T021650Z
SEQUENCE:6
ORGANIZER;CN=W3C Calendar;PARTSTAT=ACCEPTED;ROLE=NON-PARTICIPANT:mailto:nor
 eply@w3.org
ATTENDEE;CUTYPE=GROUP;ROLE=OPT-PARTICIPANT;RSVP=FALSE;CN=Federated Identity
  Working Group:mailto:public-fedid-wg@w3.org
LOCATION:Floor 4 - 401
CATEGORIES:TPAC 2025,Group Meetings
END:VEVENT
END:VCALENDAR
