BEGIN:VCALENDAR
VERSION:2.0
PRODID:-//Sabre//Sabre VObject 4.5.8//EN
CALSCALE:GREGORIAN
LAST-MODIFIED:20260219T060407Z
BEGIN:VTIMEZONE
TZID:Asia/Tokyo
X-MICROSOFT-CDO-TZID:20
BEGIN:STANDARD
DTSTART:20241117T083000
TZOFFSETFROM:+0900
TZOFFSETTO:+0900
TZNAME:JST
END:STANDARD
END:VTIMEZONE
BEGIN:VEVENT
UID:7253e1ff-d84f-48b9-85b0-e7e0d956e4de
DTSTAMP:20260219T060407Z
SUMMARY:Web Speech API: New Features & Future Directions
DTSTART;TZID=Asia/Tokyo:20251112T173000
DTEND;TZID=Asia/Tokyo:20251112T183000
DESCRIPTION:https://www.w3.org/events/meetings/7253e1ff-d84f-48b9-85b0-e7e0
 d956e4de/\n\nJoin the Chrome and Firefox teams to see significant advancem
 ents in the Web Speech API\, developed in response to community feedback. 
 The session will feature demos of powerful new capabilities now shipping i
 n Chrome\, including on--device speech recognition\, contextual biasing\, 
 and MediaStreamTrack input support. This session is an interactive forum t
 o discuss the API's current state and brainstorm its future. Come provide 
 feedback and help define the next generation of improvements for web-based
  speech interaction.\n\n**Goal(s):**\nDemonstrate new community-driven fea
 tures\, gather feedback to brainstorm the API's future evolution\n\nAgenda
 \n\n**Materials:**\n- [Slides](https://docs.google.com/presentation/d/1zRS
 gSCJ32FtvwtxbVaStyxt6ZERlKL8obApqwBHRWGU)\n- [Session proposal on GitHub](
 https://github.com/w3c/tpac2025-breakouts/issues/5)
STATUS:CONFIRMED
CREATED:20251028T073332Z
LAST-MODIFIED:20260219T060407Z
SEQUENCE:3
ORGANIZER;CN=W3C Calendar;PARTSTAT=ACCEPTED;ROLE=NON-PARTICIPANT:mailto:nor
 eply@w3.org
LOCATION:Floor 4 - 404
CATEGORIES:TPAC 2025,Breakout Sessions
END:VEVENT
END:VCALENDAR
