BEGIN:VCALENDAR
VERSION:2.0
PRODID:-//Sabre//Sabre VObject 4.5.8//EN
CALSCALE:GREGORIAN
LAST-MODIFIED:20260227T081359Z
BEGIN:VTIMEZONE
TZID:Etc/UTC
BEGIN:STANDARD
DTSTART:20250304T150000
TZOFFSETFROM:+0000
TZOFFSETTO:+0000
TZNAME:UTC
END:STANDARD
END:VTIMEZONE
BEGIN:VEVENT
UID:72220dae-d04f-4d69-afb3-59b0d0a7ebc8
DTSTAMP:20260227T081359Z
SUMMARY:WebView CG Meeting
DTSTART;TZID=Etc/UTC:20260227T150000
DTEND;TZID=Etc/UTC:20260227T160000
DESCRIPTION:https://www.w3.org/events/meetings/72220dae-d04f-4d69-afb3-59b0
 d0a7ebc8/\n\nIt's been a while. Let's catch up.\n\n**If you cannot attend 
 this meeting please let me know.**\n\nSome things came up like Cyber Resil
 ience Act (CRA)\, WebView native bridges and Breakouts Day.\n\nAgenda: htt
 ps://bit.ly/webview-cg-2602\n\nAgenda\n\n* [Cyber Resilience Act (CRA) for
  Browsers](https://docs.google.com/presentation/d/1dwbI8srfE1-T_nHcVtLZdmg
 4LD6WHSiWQZQ1zSKI51A/edit?usp=sharing)\n* [WebView native bridges](https:/
 /github.com/w3c/exploration-ig/issues/9)\n* [Breakouts Day](https://github
 .com/w3c/breakouts-day-2026)\n* WebSignals for WebViews
STATUS:CONFIRMED
CREATED:20260217T161737Z
LAST-MODIFIED:20260227T081359Z
SEQUENCE:1
ORGANIZER;CN=W3C Calendar;PARTSTAT=ACCEPTED;ROLE=NON-PARTICIPANT:mailto:nor
 eply@w3.org
ATTENDEE;CUTYPE=GROUP;ROLE=OPT-PARTICIPANT;RSVP=FALSE;CN=WebView Community 
 Group:mailto:public-webview@w3.org
END:VEVENT
END:VCALENDAR
