BEGIN:VCALENDAR
VERSION:2.0
PRODID:-//Sabre//Sabre VObject 4.5.8//EN
CALSCALE:GREGORIAN
LAST-MODIFIED:20240709T174544Z
BEGIN:VTIMEZONE
TZID:America/Los_Angeles
X-MICROSOFT-CDO-TZID:13
BEGIN:STANDARD
DTSTART:20231105T090000
TZOFFSETFROM:-0700
TZOFFSETTO:-0800
TZNAME:PST
END:STANDARD
BEGIN:STANDARD
DTSTART:20241103T090000
TZOFFSETFROM:-0700
TZOFFSETTO:-0800
TZNAME:PST
END:STANDARD
BEGIN:DAYLIGHT
DTSTART:20240310T100000
TZOFFSETFROM:-0800
TZOFFSETTO:-0700
TZNAME:PDT
END:DAYLIGHT
END:VTIMEZONE
BEGIN:VEVENT
UID:7129983b-d591-433d-a649-6e8da11f1910
DTSTAMP:20240709T174544Z
SUMMARY:Deep Dive: Orphaned Roles
DTSTART;TZID=America/Los_Angeles:20240711T090000
DTEND;TZID=America/Los_Angeles:20240711T100000
DESCRIPTION:https://www.w3.org/events/meetings/7129983b-d591-433d-a649-6e8d
 a11f1910/\n\nDiscuss Orphaned Roles\nhttps://github.com/w3c/aria/issues/21
 66
STATUS:CONFIRMED
CREATED:20240709T174543Z
LAST-MODIFIED:20240709T174544Z
SEQUENCE:0
ORGANIZER;CN=W3C Calendar;PARTSTAT=ACCEPTED;ROLE=NON-PARTICIPANT:mailto:nor
 eply@w3.org
ATTENDEE;CUTYPE=GROUP;ROLE=OPT-PARTICIPANT;RSVP=FALSE;CN=Accessible Rich In
 ternet Applications Working Group:mailto:public-aria@w3.org
END:VEVENT
END:VCALENDAR
