BEGIN:VCALENDAR
VERSION:2.0
PRODID:-//Sabre//Sabre VObject 4.5.8//EN
CALSCALE:GREGORIAN
LAST-MODIFIED:20240927T185111Z
BEGIN:VTIMEZONE
TZID:America/Los_Angeles
X-MICROSOFT-CDO-TZID:13
BEGIN:STANDARD
DTSTART:20231105T090000
TZOFFSETFROM:-0700
TZOFFSETTO:-0800
TZNAME:PST
END:STANDARD
BEGIN:STANDARD
DTSTART:20241103T090000
TZOFFSETFROM:-0700
TZOFFSETTO:-0800
TZNAME:PST
END:STANDARD
BEGIN:DAYLIGHT
DTSTART:20240310T100000
TZOFFSETFROM:-0800
TZOFFSETTO:-0700
TZNAME:PDT
END:DAYLIGHT
END:VTIMEZONE
BEGIN:VEVENT
UID:6fe0ca25-56c5-4ac4-8a87-bd1e231d24ae
DTSTAMP:20240927T185111Z
SUMMARY:Private Advertising Technology Community Group
DTSTART;TZID=America/Los_Angeles:20240927T090000
DTEND;TZID=America/Los_Angeles:20240927T160000
DESCRIPTION:https://www.w3.org/events/meetings/6fe0ca25-56c5-4ac4-8a87-bd1e
 231d24ae/\n\n\n\nAgenda: https://github.com/patcg/meetings/tree/main/2024/
 09/27-tpac
STATUS:CONFIRMED
CREATED:20240614T163445Z
LAST-MODIFIED:20240927T185111Z
SEQUENCE:6
ORGANIZER;CN=W3C Calendar;PARTSTAT=ACCEPTED;ROLE=NON-PARTICIPANT:mailto:nor
 eply@w3.org
ATTENDEE;CUTYPE=GROUP;ROLE=OPT-PARTICIPANT;RSVP=FALSE;CN=Private Advertisin
 g Technology Community Group:mailto:public-patcg@w3.org
LOCATION:4 Concourse Level - Laguna
CATEGORIES:TPAC 2024,Group Meetings
END:VEVENT
END:VCALENDAR
