BEGIN:VCALENDAR
VERSION:2.0
PRODID:-//Sabre//Sabre VObject 4.5.8//EN
CALSCALE:GREGORIAN
LAST-MODIFIED:20210316T230353Z
BEGIN:VTIMEZONE
TZID:America/Los_Angeles
X-MICROSOFT-CDO-TZID:13
BEGIN:STANDARD
DTSTART:20201101T090000
TZOFFSETFROM:-0700
TZOFFSETTO:-0800
TZNAME:PST
END:STANDARD
BEGIN:STANDARD
DTSTART:20211107T090000
TZOFFSETFROM:-0700
TZOFFSETTO:-0800
TZNAME:PST
END:STANDARD
BEGIN:DAYLIGHT
DTSTART:20210314T100000
TZOFFSETFROM:-0800
TZOFFSETTO:-0700
TZNAME:PDT
END:DAYLIGHT
END:VTIMEZONE
BEGIN:VEVENT
UID:6eac3878-6d67-4536-b6f2-0c91b93eb5bb
DTSTAMP:20210316T230353Z
SUMMARY:ARIA Deep-dive "owned"
DTSTART;TZID=America/Los_Angeles:20210318T090000
DTEND;TZID=America/Los_Angeles:20210318T095000
DESCRIPTION:https://www.w3.org/events/meetings/6eac3878-6d67-4536-b6f2-0c91
 b93eb5bb/\n\nWe'll be discussing topics of ownership from \nhttps://github
 .com/w3c/aria/projects/16\n\nAgenda: https://github.com/w3c/aria/projects/
 16\n\nAgenda\n\nDiscuss and work out how to solve ownership topics collect
 ed in https://github.com/w3c/aria/projects/16\n\nMany of these are blocker
 s for ARIA 1.3
STATUS:CONFIRMED
CREATED:20210316T230353Z
LAST-MODIFIED:20210316T230353Z
SEQUENCE:0
ORGANIZER;CN=W3C Calendar;PARTSTAT=ACCEPTED;ROLE=NON-PARTICIPANT:mailto:nor
 eply@w3.org
ATTENDEE;CUTYPE=GROUP;ROLE=OPT-PARTICIPANT;RSVP=FALSE;CN=Accessible Rich In
 ternet Applications Working Group:mailto:public-aria@w3.org
END:VEVENT
END:VCALENDAR
