BEGIN:VCALENDAR
VERSION:2.0
PRODID:-//Sabre//Sabre VObject 4.5.8//EN
CALSCALE:GREGORIAN
LAST-MODIFIED:20231211T104203Z
BEGIN:VTIMEZONE
TZID:Etc/UTC
BEGIN:STANDARD
DTSTART:20221217T220000
TZOFFSETFROM:+0000
TZOFFSETTO:+0000
TZNAME:UTC
END:STANDARD
END:VTIMEZONE
BEGIN:VEVENT
UID:6dcbae4d-2506-4011-bfbc-dd060b3a8a42
DTSTAMP:20231211T104203Z
SUMMARY:Media WG meeting
DTSTART;TZID=Etc/UTC:20231212T220000
DTEND;TZID=Etc/UTC:20231212T230000
DESCRIPTION:https://www.w3.org/events/meetings/6dcbae4d-2506-4011-bfbc-dd06
 0b3a8a42/\n\n### Agenda\n\nThis agenda can be viewed and updated on [GitHu
 b](https://github.com/w3c/media-wg/blob/main/meetings/2023-12-12-Media_Wor
 king_Group_Teleconference-agenda.md).\n\nIf you would like to add an item 
 to the agenda\, please open a pull request against this agenda.\n\n* [w3c/
 mediasession#273 Chapter information in MediaMetadata](https://github.com/
 w3c/mediasession/issues/273) - @steimelchrome\n\n* [w3c/media-capabilities
 #209 PING: Align exposing scalabilityMode with the WebRTC "hardware capabi
 lities" check](https://github.com/w3c/media-capabilities/issues/209) - @ab
 oba\n\n* [w3c/media-capabilities#203 Browser interop issues](https://githu
 b.com/w3c/media-capabilities/issues/203) - @aboba\n\n* Media Capabilities 
 prioritisation - @chrisn\n  *  There's a number of open issues (some from 
 2021 and earler). How should we prioritise\, compared to other specs in th
 e WG? Example issue [#102](https://github.com/w3c/media-capabilities/issue
 s/102) on proposed transition API.\n\n* [w3c/media-source#320 Proposal: Ma
 nagedMediaSource API](https://github.com/w3c/media-source/issues/320) - @m
 arcoscaceres\n\n* [w3c/webcodecs#558 Opus Packet Loss Concealment](https:/
 /github.com/w3c/webcodecs/issues/558) - @aboba\n\n### Media Working Group 
 Teleconference - 2023-12-12\n\n| Location | Date & Time |\n| -------- | --
 --------- |\n| San Francisco (U.S.A.) | Tuesday\, December 12 at 1:00 PM P
 ST |\n| Boston (U.S.A.) | Tuesday\, December 12 at 4:00 PM EST |\n| London
  (United Kingdom) | Tuesday\, December 12 at 9:00 PM GMT |\n| Paris (Franc
 e) | Tuesday\, December 12 at 10:00 PM GMT+1 |\n| Tokyo (Japan) | Wednesda
 y\, December 13 at 6:00 AM GMT+9 |\n| Corresponding UTC (GMT) | Tuesday\, 
 December 12 at 9:00 PM UTC |\n\n### Logistics\n\nChairs: Chris Needham\, M
 arcos Caceres\n\nZoom: https://lists.w3.org/Archives/Member/w3c-archive/20
 23May/0295.html\n\nIRC: https://irc.w3.org/?channels=#mediawg\n\nIf you ar
 e unable to login to view the call details please ask on IRC before the ca
 ll.
STATUS:CONFIRMED
CREATED:20231206T162447Z
LAST-MODIFIED:20231211T104203Z
SEQUENCE:0
ORGANIZER;CN=W3C Calendar;PARTSTAT=ACCEPTED;ROLE=NON-PARTICIPANT:mailto:nor
 eply@w3.org
ATTENDEE;CUTYPE=GROUP;ROLE=OPT-PARTICIPANT;RSVP=FALSE;CN=Media Working Grou
 p:mailto:public-media-wg@w3.org
END:VEVENT
END:VCALENDAR
