BEGIN:VCALENDAR
VERSION:2.0
PRODID:-//Sabre//Sabre VObject 4.5.8//EN
CALSCALE:GREGORIAN
LAST-MODIFIED:20231127T165830Z
BEGIN:VTIMEZONE
TZID:Europe/London
X-MICROSOFT-CDO-TZID:1
BEGIN:DAYLIGHT
DTSTART:20230326T010000
TZOFFSETFROM:+0000
TZOFFSETTO:+0100
TZNAME:BST
END:DAYLIGHT
BEGIN:DAYLIGHT
DTSTART:20240331T010000
TZOFFSETFROM:+0000
TZOFFSETTO:+0100
TZNAME:BST
END:DAYLIGHT
BEGIN:STANDARD
DTSTART:20231029T010000
TZOFFSETFROM:+0100
TZOFFSETTO:+0000
TZNAME:GMT
END:STANDARD
END:VTIMEZONE
BEGIN:VEVENT
UID:6d544156-352c-46f2-b6ec-383b4e2462fb
DTSTAMP:20231127T165830Z
SUMMARY:Internationalization (I18N) WG Teleconference
DTSTART;TZID=Europe/London:20231130T150000
DTEND;TZID=Europe/London:20231130T160000
DESCRIPTION:https://www.w3.org/events/meetings/6d544156-352c-46f2-b6ec-383b
 4e2462fb/20231130T150000/\n\n***NOTE WELL*** This meeting is scheduled in 
 the `Europe/London` time zone. That time zone observes Daylight Savings/Su
 mmer Time. Your local time for this call may vary due to differences in yo
 ur local time zone's observation of DST/ST from that of the UK.\n\n***WHAT
  IS THIS?*** This is the regular weekly teleconference of the W3C Internat
 ionalization Working Group.\n\n***AGENDA+*** If you would like the chair t
 o consider adding an item to the agenda\, please send email to the public-
 i18n-core@ mailing list with a subject line starting `agenda+`. Here is an
  [example](https://lists.w3.org/Archives/Public/public-i18n-core/2023OctDe
 c/0007.html).\n\nAgenda\n\n#### BE PREPARED \nThings to do before the meet
 ing:\n\n* Read the [Localizable-Manifest](https://deploy-preview-16--local
 izable-manifests.netlify.app/) proposed text.\n* Be familiar with the edit
 or's copy of [Timezone](https://w3c.github.io/timezone/)\n\n#### AGENDA\n\
 n**Topic: Agenda Review**\n\n**Topic: Action Items**\n_Review of open acti
 on items from previous meetings_\n* [I18N-ACTIONS](https://github.com/w3c/
 i18n-actions/issues)\n\n**Topic: Info Share**\n_Share information of inter
 est to the working group or pertaining to internationalization in general.
 _\n\n**Topic: RADAR Review**\n_Time to review new and on-going requests fo
 r specification review. Incoming requests are assigned to shepherds in thi
 s part of the call._\n_In addition\, we review the status of specification
 s that have received comments. *Please review your issues and owned items 
 in advance of the call*_\n* [RADAR](https://github.com/w3c/i18n-request/pr
 ojects/1)\n\n**Topic: Pending Issue Review**\n_Review of new and pending i
 ssues raised by working group members or via the various bots._\n* [Pendin
 g Issues](https://github.com/w3c/i18n-activity/issues?q=is%3Aissue+is%3Aop
 en+label%3Apending)\n\n**Topic: Working with Time and Timezones**\n_A revi
 sion is in progress. Let's review progress and plans to update the version
  in TR_\n* https://w3c.github.io/timezone/\n\n**Topic: Localizable Manifes
 ts**\n_We need to update this Note in light of the work we did at TPAC and
  the needs of groups such as appmanifest and miniapp. The PR linked below 
 contains significant revisions based on the new explainer._\n* [PR](https:
 //github.com/w3c/localizable-manifests/pull/16)\n* [Preview](https://deplo
 y-preview-16--localizable-manifests.netlify.app/)\n\n**Topic: AOB?**\n\n--
 -\n\n#### REMINDER \nGetting too many of these notifications? Read [this](
 https://lists.w3.org/Archives/Member/member-i18n-core/2022Mar/0013.html) e
 mail from Richard on how to manage notifications.\n\n\n#### SCRIBE \nIf yo
 u are set to scribe and cannot make it\, please send regrets to the chair.
  Volunteers to act as scribe cheerfully accepted.\n\nFuqiao\nAtsushi [2023
 -11-09]\nBert [2023-11-16]\n\n#### Chair's Link Farm\nhttps://github.com/w
 3c/i18n-actions/issues\nhttps://github.com/w3c/i18n-request/projects/1\nht
 tps://github.com/w3c/i18n-activity/issues?q=is%3Aissue+is%3Aopen+label%3Ap
 ending
STATUS:CONFIRMED
CREATED:20231127T165829Z
LAST-MODIFIED:20231127T165830Z
SEQUENCE:2
ORGANIZER;CN=W3C Calendar;PARTSTAT=ACCEPTED;ROLE=NON-PARTICIPANT:mailto:nor
 eply@w3.org
ATTENDEE;CUTYPE=GROUP;ROLE=OPT-PARTICIPANT;RSVP=FALSE;CN=Internationalizati
 on Working Group:mailto:public-i18n-core@w3.org
LOCATION:Location: https://www.w3.org/2017/09/i18n-meeting-info.html
RECURRENCE-ID;TZID=Europe/London:20231130T150000
END:VEVENT
END:VCALENDAR
