BEGIN:VCALENDAR
VERSION:2.0
PRODID:-//Sabre//Sabre VObject 4.5.8//EN
CALSCALE:GREGORIAN
LAST-MODIFIED:20240924T190604Z
BEGIN:VTIMEZONE
TZID:America/Los_Angeles
X-MICROSOFT-CDO-TZID:13
BEGIN:STANDARD
DTSTART:20231105T090000
TZOFFSETFROM:-0700
TZOFFSETTO:-0800
TZNAME:PST
END:STANDARD
BEGIN:STANDARD
DTSTART:20241103T090000
TZOFFSETFROM:-0700
TZOFFSETTO:-0800
TZNAME:PST
END:STANDARD
BEGIN:DAYLIGHT
DTSTART:20240310T100000
TZOFFSETFROM:-0800
TZOFFSETTO:-0700
TZNAME:PDT
END:DAYLIGHT
END:VTIMEZONE
BEGIN:VEVENT
UID:6c6c9aea-70cd-4d1d-bc92-7f2cb4a45a47
DTSTAMP:20240924T190604Z
SUMMARY:Web Platform Incubator Community Group
DTSTART;TZID=America/Los_Angeles:20240923T110000
DTEND;TZID=America/Los_Angeles:20240923T123000
DESCRIPTION:https://www.w3.org/events/meetings/6c6c9aea-70cd-4d1d-bc92-7f2c
 b4a45a47/\n\n\n\nAgenda: https://github.com/WICG/admin/issues/194#issuecom
 ment-2333970845
STATUS:CONFIRMED
CREATED:20240614T163020Z
LAST-MODIFIED:20240924T190604Z
SEQUENCE:6
ORGANIZER;CN=W3C Calendar;PARTSTAT=ACCEPTED;ROLE=NON-PARTICIPANT:mailto:nor
 eply@w3.org
ATTENDEE;CUTYPE=GROUP;ROLE=OPT-PARTICIPANT;RSVP=FALSE;CN=Web Platform Incub
 ator Community Group:mailto:public-wicg@w3.org
LOCATION:2 Ballroom Level - California A
CATEGORIES:TPAC 2024,Group Meetings
END:VEVENT
END:VCALENDAR
