BEGIN:VCALENDAR
VERSION:2.0
PRODID:-//Sabre//Sabre VObject 4.5.8//EN
CALSCALE:GREGORIAN
LAST-MODIFIED:20240927T153524Z
BEGIN:VTIMEZONE
TZID:America/Los_Angeles
X-MICROSOFT-CDO-TZID:13
BEGIN:STANDARD
DTSTART:20231105T090000
TZOFFSETFROM:-0700
TZOFFSETTO:-0800
TZNAME:PST
END:STANDARD
BEGIN:STANDARD
DTSTART:20241103T090000
TZOFFSETFROM:-0700
TZOFFSETTO:-0800
TZNAME:PST
END:STANDARD
BEGIN:DAYLIGHT
DTSTART:20240310T100000
TZOFFSETFROM:-0800
TZOFFSETTO:-0700
TZNAME:PDT
END:DAYLIGHT
END:VTIMEZONE
BEGIN:VEVENT
UID:6c6bbdef-5999-43f1-a75e-9cfcf8fc8379
DTSTAMP:20240927T153524Z
SUMMARY:Solid Community Group
DTSTART;TZID=America/Los_Angeles:20240927T090000
DTEND;TZID=America/Los_Angeles:20240927T103000
DESCRIPTION:https://www.w3.org/events/meetings/6c6bbdef-5999-43f1-a75e-9cfc
 f8fc8379/\n\n\n\nAgenda: https://hackmd.io/1QInJs0-QS62qHPQbUTV-Q
STATUS:CONFIRMED
CREATED:20240614T163454Z
LAST-MODIFIED:20240927T153524Z
SEQUENCE:8
ORGANIZER;CN=W3C Calendar;PARTSTAT=ACCEPTED;ROLE=NON-PARTICIPANT:mailto:nor
 eply@w3.org
ATTENDEE;CUTYPE=GROUP;ROLE=OPT-PARTICIPANT;RSVP=FALSE;CN=Solid Community Gr
 oup:mailto:public-solid@w3.org
LOCATION:4 Concourse Level - Manhattan
CATEGORIES:TPAC 2024,Group Meetings
END:VEVENT
END:VCALENDAR
