BEGIN:VCALENDAR
VERSION:2.0
PRODID:-//Sabre//Sabre VObject 4.5.8//EN
CALSCALE:GREGORIAN
LAST-MODIFIED:20250424T101109Z
BEGIN:VTIMEZONE
TZID:Europe/Berlin
X-MICROSOFT-CDO-TZID:4
BEGIN:STANDARD
DTSTART:20241027T010000
TZOFFSETFROM:+0200
TZOFFSETTO:+0100
TZNAME:CET
END:STANDARD
BEGIN:STANDARD
DTSTART:20251026T010000
TZOFFSETFROM:+0200
TZOFFSETTO:+0100
TZNAME:CET
END:STANDARD
BEGIN:DAYLIGHT
DTSTART:20250330T010000
TZOFFSETFROM:+0100
TZOFFSETTO:+0200
TZNAME:CEST
END:DAYLIGHT
END:VTIMEZONE
BEGIN:VEVENT
UID:6b6cb029-7c33-4df9-8cee-3dbb0ad4cff9
DTSTAMP:20250424T101109Z
SUMMARY:W3C Docs CG call
DTSTART;TZID=Europe/Berlin:20250506T170000
DTEND;TZID=Europe/Berlin:20250506T180000
DESCRIPTION:https://www.w3.org/events/meetings/6b6cb029-7c33-4df9-8cee-3dbb
 0ad4cff9/\n\nThe 2nd W3C Docs CG call is happening on May 6\, 2025!\n\nPle
 ase let us know if Tuesdays at 5pm CET could be a permanent meeting time. 
 We're trying to set this up every other week for 1 hour.\n\nThe agenda is 
 not set in stone\, please add to it by suggesting changes to the PR: https
 ://github.com/w3c-cg/webdocs/pull/3\n\nAgenda: https://github.com/w3c-cg/w
 ebdocs/pull/3\n\nAgenda\n\nPlease add to the agenda: https://github.com/w3
 c-cg/webdocs/pull/3
STATUS:CONFIRMED
CREATED:20250424T100919Z
LAST-MODIFIED:20250424T101109Z
SEQUENCE:1
ORGANIZER;CN=W3C Calendar;PARTSTAT=ACCEPTED;ROLE=NON-PARTICIPANT:mailto:nor
 eply@w3.org
ATTENDEE;CUTYPE=GROUP;ROLE=OPT-PARTICIPANT;RSVP=FALSE;CN=Documentation Comm
 unity Group:mailto:public-docs-cg@w3.org
END:VEVENT
END:VCALENDAR
