BEGIN:VCALENDAR
VERSION:2.0
PRODID:-//Sabre//Sabre VObject 4.5.8//EN
CALSCALE:GREGORIAN
LAST-MODIFIED:20260410T123449Z
BEGIN:VTIMEZONE
TZID:America/New_York
X-MICROSOFT-CDO-TZID:10
BEGIN:DAYLIGHT
DTSTART:20270314T070000
TZOFFSETFROM:-0500
TZOFFSETTO:-0400
TZNAME:EDT
END:DAYLIGHT
BEGIN:DAYLIGHT
DTSTART:20280312T070000
TZOFFSETFROM:-0500
TZOFFSETTO:-0400
TZNAME:EDT
END:DAYLIGHT
BEGIN:STANDARD
DTSTART:20271107T060000
TZOFFSETFROM:-0400
TZOFFSETTO:-0500
TZNAME:EST
END:STANDARD
END:VTIMEZONE
BEGIN:VEVENT
UID:6b4e5e27-1b27-4e63-979b-40e90e450949
DTSTAMP:20260410T123449Z
SUMMARY:JSON-LD WG Meeting
DTSTART;TZID=America/New_York:20280105T120000
DTEND;TZID=America/New_York:20280105T130000
DESCRIPTION:https://www.w3.org/events/meetings/6b4e5e27-1b27-4e63-979b-40e9
 0e450949/20280105T120000/\n\nThis will be an official Working Group meetin
 g.\n\nAgenda\n\n1. Announcements and Introductions\n-------\n\n2. YAML-LD 
 check-in\n-------\n\nhttps://github.com/w3c/yaml-ld/\n\n3. CBOR-LD PRs & I
 ssues\n-------\n\nhttps://github.com/w3c/cbor-ld/pulls\n\nhttps://github.c
 om/w3c/cbor-ld/issues\n\n4.  Open Discussion\n-------\n\nOpen discussion a
 nd "Ask Anything" on JSON-LD topics.
STATUS:TENTATIVE
CREATED:20260410T123449Z
LAST-MODIFIED:20260410T123449Z
SEQUENCE:0
ORGANIZER;CN=W3C Calendar;PARTSTAT=ACCEPTED;ROLE=NON-PARTICIPANT:mailto:nor
 eply@w3.org
ATTENDEE;CUTYPE=GROUP;ROLE=OPT-PARTICIPANT;RSVP=FALSE;CN=JSON-LD Working Gr
 oup:mailto:public-json-ld-wg@w3.org
RECURRENCE-ID;TZID=America/New_York:20280105T120000
END:VEVENT
END:VCALENDAR
