BEGIN:VCALENDAR
VERSION:2.0
PRODID:-//Sabre//Sabre VObject 4.5.8//EN
CALSCALE:GREGORIAN
LAST-MODIFIED:20220104T072714Z
BEGIN:VTIMEZONE
TZID:Etc/UTC
BEGIN:STANDARD
DTSTART:20200727T170000
TZOFFSETFROM:+0000
TZOFFSETTO:+0000
TZNAME:UTC
END:STANDARD
END:VTIMEZONE
BEGIN:VEVENT
UID:6a8c67f2-1d46-4b41-8058-4b188c8b6daa
DTSTAMP:20220104T072714Z
SUMMARY:WebRTC WG July 2021 call
DTSTART;TZID=Etc/UTC:20210722T170000
DTEND;TZID=Etc/UTC:20210722T190000
DESCRIPTION:https://www.w3.org/events/meetings/6a8c67f2-1d46-4b41-8058-4b18
 8c8b6daa/\n\n\n\nAgenda: https://www.w3.org/2011/04/webrtc/wiki/July_22_20
 21
STATUS:CONFIRMED
CREATED:20210701T141526Z
LAST-MODIFIED:20220104T072714Z
SEQUENCE:1
ORGANIZER;CN=W3C Calendar;PARTSTAT=ACCEPTED;ROLE=NON-PARTICIPANT:mailto:nor
 eply@w3.org
ATTENDEE;CUTYPE=GROUP;ROLE=OPT-PARTICIPANT;RSVP=FALSE;CN=Web Real-Time Comm
 unications Working Group:mailto:public-webrtc@w3.org
END:VEVENT
END:VCALENDAR
