BEGIN:VCALENDAR
VERSION:2.0
PRODID:-//Sabre//Sabre VObject 4.5.8//EN
CALSCALE:GREGORIAN
LAST-MODIFIED:20250811T173218Z
BEGIN:VTIMEZONE
TZID:America/New_York
X-MICROSOFT-CDO-TZID:10
BEGIN:STANDARD
DTSTART:20241103T060000
TZOFFSETFROM:-0400
TZOFFSETTO:-0500
TZNAME:EST
END:STANDARD
BEGIN:STANDARD
DTSTART:20251102T060000
TZOFFSETFROM:-0400
TZOFFSETTO:-0500
TZNAME:EST
END:STANDARD
BEGIN:DAYLIGHT
DTSTART:20250309T070000
TZOFFSETFROM:-0500
TZOFFSETTO:-0400
TZNAME:EDT
END:DAYLIGHT
END:VTIMEZONE
BEGIN:VEVENT
UID:6a82c8f0-95e5-482c-bc16-53a7184c34d0
DTSTAMP:20250811T173218Z
SUMMARY:Private Advertising Technology CG Meeting
DTSTART;TZID=America/New_York:20250814T020000
DTEND;TZID=America/New_York:20250814T040000
DESCRIPTION:https://www.w3.org/events/meetings/6a82c8f0-95e5-482c-bc16-53a7
 184c34d0/\n\nPrivate Advertising Technology CG Meeting.\n\nAgenda: https:/
 /github.com/patcg/meetings/issues
STATUS:CANCELLED
CREATED:20250205T215550Z
LAST-MODIFIED:20250811T173218Z
SEQUENCE:1
ORGANIZER;CN=W3C Calendar;PARTSTAT=ACCEPTED;ROLE=NON-PARTICIPANT:mailto:nor
 eply@w3.org
ATTENDEE;CUTYPE=GROUP;ROLE=OPT-PARTICIPANT;RSVP=FALSE;CN=Private Advertisin
 g Technology Community Group:mailto:public-patcg@w3.org
END:VEVENT
END:VCALENDAR
