BEGIN:VCALENDAR
VERSION:2.0
PRODID:-//Sabre//Sabre VObject 4.5.8//EN
CALSCALE:GREGORIAN
LAST-MODIFIED:20220404T200408Z
BEGIN:VTIMEZONE
TZID:America/New_York
X-MICROSOFT-CDO-TZID:10
BEGIN:STANDARD
DTSTART:20211107T060000
TZOFFSETFROM:-0400
TZOFFSETTO:-0500
TZNAME:EST
END:STANDARD
BEGIN:STANDARD
DTSTART:20221106T060000
TZOFFSETFROM:-0400
TZOFFSETTO:-0500
TZNAME:EST
END:STANDARD
BEGIN:DAYLIGHT
DTSTART:20220313T070000
TZOFFSETFROM:-0500
TZOFFSETTO:-0400
TZNAME:EDT
END:DAYLIGHT
END:VTIMEZONE
BEGIN:VEVENT
UID:6a3dacb1-56a6-417a-92d9-c227be51f176
DTSTAMP:20220404T200408Z
SUMMARY:DID WG Meeting
DTSTART;TZID=America/New_York:20220405T110000
DTEND;TZID=America/New_York:20220405T120000
DESCRIPTION:https://www.w3.org/events/meetings/6a3dacb1-56a6-417a-92d9-c227
 be51f176/20220405T110000/\n\nThe regular weekly meeting of the DID WG.
STATUS:CANCELLED
CREATED:20220404T200407Z
LAST-MODIFIED:20220404T200408Z
SEQUENCE:2
ORGANIZER;CN=W3C Calendar;PARTSTAT=ACCEPTED;ROLE=NON-PARTICIPANT:mailto:nor
 eply@w3.org
ATTENDEE;CUTYPE=GROUP;ROLE=OPT-PARTICIPANT;RSVP=FALSE;CN=Decentralized Iden
 tifier Working Group:mailto:public-did-wg@w3.org
RECURRENCE-ID;TZID=America/New_York:20220405T110000
END:VEVENT
END:VCALENDAR
