BEGIN:VCALENDAR
VERSION:2.0
PRODID:-//Sabre//Sabre VObject 4.5.8//EN
CALSCALE:GREGORIAN
LAST-MODIFIED:20250707T190120Z
BEGIN:VTIMEZONE
TZID:Etc/UTC
BEGIN:STANDARD
DTSTART:20240709T150000
TZOFFSETFROM:+0000
TZOFFSETTO:+0000
TZNAME:UTC
END:STANDARD
END:VTIMEZONE
BEGIN:VEVENT
UID:69a1ba70-20fe-4598-8e47-d67e5376e300
DTSTAMP:20250707T190120Z
SUMMARY:WebView CG Meeting
DTSTART;TZID=Etc/UTC:20250704T150000
DTEND;TZID=Etc/UTC:20250704T160000
DESCRIPTION:https://www.w3.org/events/meetings/69a1ba70-20fe-4598-8e47-d67e
 5376e300/\n\nLet's continues where we left of with the WebView definition\
 n\nAgenda: https://bit.ly/webview-cg-2025-jun-jul\n\nAgenda\n\n* WebView L
 ogo\n* WebView Definition \n      * https://github.com/WebView-CG/usage-an
 d-challenges/issues/49\n* Best practices and Recommendations document/page
STATUS:CONFIRMED
CREATED:20250626T100137Z
LAST-MODIFIED:20250707T190120Z
SEQUENCE:0
ORGANIZER;CN=W3C Calendar;PARTSTAT=ACCEPTED;ROLE=NON-PARTICIPANT:mailto:nor
 eply@w3.org
ATTENDEE;CUTYPE=GROUP;ROLE=OPT-PARTICIPANT;RSVP=FALSE;CN=WebView Community 
 Group:mailto:public-webview@w3.org
END:VEVENT
END:VCALENDAR
