BEGIN:VCALENDAR
VERSION:2.0
PRODID:-//Sabre//Sabre VObject 4.5.8//EN
CALSCALE:GREGORIAN
LAST-MODIFIED:20230315T093911Z
BEGIN:VTIMEZONE
TZID:Etc/UTC
BEGIN:STANDARD
DTSTART:20220320T160000
TZOFFSETFROM:+0000
TZOFFSETTO:+0000
TZNAME:UTC
END:STANDARD
END:VTIMEZONE
BEGIN:VEVENT
UID:6999a39e-a1a2-4145-bc9a-b13fcdfabb2a
DTSTAMP:20230315T093911Z
SUMMARY:BoD Finance Committee
DTSTART;TZID=Etc/UTC:20230315T160000
DTEND;TZID=Etc/UTC:20230315T170000
DESCRIPTION:https://www.w3.org/events/meetings/6999a39e-a1a2-4145-bc9a-b13f
 cdfabb2a/\n\n
STATUS:CONFIRMED
CREATED:20230313T090112Z
LAST-MODIFIED:20230315T093911Z
SEQUENCE:1
ORGANIZER;CN=W3C Calendar;PARTSTAT=ACCEPTED;ROLE=NON-PARTICIPANT:mailto:nor
 eply@w3.org
ATTENDEE;CUTYPE=GROUP;ROLE=OPT-PARTICIPANT;RSVP=FALSE;CN=Board Finance Comm
 ittee:mailto:board-finance@w3.org
ATTENDEE;CUTYPE=GROUP;ROLE=OPT-PARTICIPANT;RSVP=FALSE;CN=Board of Directors
 :mailto:board@w3.org
END:VEVENT
END:VCALENDAR
