BEGIN:VCALENDAR
VERSION:2.0
PRODID:-//Sabre//Sabre VObject 4.5.8//EN
CALSCALE:GREGORIAN
LAST-MODIFIED:20260224T183244Z
BEGIN:VTIMEZONE
TZID:America/New_York
X-MICROSOFT-CDO-TZID:10
BEGIN:DAYLIGHT
DTSTART:20250309T070000
TZOFFSETFROM:-0500
TZOFFSETTO:-0400
TZNAME:EDT
END:DAYLIGHT
BEGIN:DAYLIGHT
DTSTART:20260308T070000
TZOFFSETFROM:-0500
TZOFFSETTO:-0400
TZNAME:EDT
END:DAYLIGHT
BEGIN:STANDARD
DTSTART:20251102T060000
TZOFFSETFROM:-0400
TZOFFSETTO:-0500
TZNAME:EST
END:STANDARD
END:VTIMEZONE
BEGIN:VEVENT
UID:690d057f-db6d-4169-b13f-68d7f1336b59
DTSTAMP:20260224T183244Z
SUMMARY:ARIA Working Group weekly meeting
DTSTART;TZID=America/New_York:20260226T130000
DTEND;TZID=America/New_York:20260226T140000
DESCRIPTION:https://www.w3.org/events/meetings/690d057f-db6d-4169-b13f-68d7
 f1336b59/20260226T130000/\n\n\n\nAgenda\n\n* [New PR Triage](https://githu
 b.com/search?q=is%3Aopen+is%3Apr+created:%3E=2026-02-19+repo:w3c/aria&type
 =Issues)\n* [WPT Open PRs](https://bit.ly/wpt_a11y)\n* Deep Dive - Meeting
  with CSS - not finalised yet - more details forthcoming\n* Wide review wo
 rking drafts - HTML-AAM to start then other AAMs need to go through CR pro
 cess so we will create snapshots and ask for wide review.\n* [New controls
  attribute for img element](https://github.com/w3c/html-aam/issues/601)\n*
  [Scoping focusgroup to scenarios defined by aria roles - 5 minutes for in
 ital thoughts only](https://github.com/w3c/aria/issues/2602)\n* [check map
 pings and a11y of HTMLButtonElement's declarative scroll commands](https:/
 /github.com/w3c/html-aam/issues/600)\n* [Potential heuristic standardizati
 on: how does/should event delegation play into screen readers conveying "c
 lickable"](https://github.com/w3c/html-aam/issues/599)
STATUS:CONFIRMED
CREATED:20260224T181150Z
LAST-MODIFIED:20260224T183244Z
SEQUENCE:3
ORGANIZER;CN=W3C Calendar;PARTSTAT=ACCEPTED;ROLE=NON-PARTICIPANT:mailto:nor
 eply@w3.org
ATTENDEE;CUTYPE=GROUP;ROLE=OPT-PARTICIPANT;RSVP=FALSE;CN=Accessible Rich In
 ternet Applications Working Group:mailto:public-aria@w3.org
RECURRENCE-ID;TZID=America/New_York:20260226T130000
END:VEVENT
END:VCALENDAR
