BEGIN:VCALENDAR
VERSION:2.0
PRODID:-//Sabre//Sabre VObject 4.5.8//EN
CALSCALE:GREGORIAN
LAST-MODIFIED:20260219T154519Z
BEGIN:VTIMEZONE
TZID:America/New_York
X-MICROSOFT-CDO-TZID:10
BEGIN:DAYLIGHT
DTSTART:20250309T070000
TZOFFSETFROM:-0500
TZOFFSETTO:-0400
TZNAME:EDT
END:DAYLIGHT
BEGIN:DAYLIGHT
DTSTART:20260308T070000
TZOFFSETFROM:-0500
TZOFFSETTO:-0400
TZNAME:EDT
END:DAYLIGHT
BEGIN:STANDARD
DTSTART:20251102T060000
TZOFFSETFROM:-0400
TZOFFSETTO:-0500
TZNAME:EST
END:STANDARD
END:VTIMEZONE
BEGIN:VEVENT
UID:690d057f-db6d-4169-b13f-68d7f1336b59
DTSTAMP:20260219T154519Z
SUMMARY:ARIA Working Group weekly meeting
DTSTART;TZID=America/New_York:20260219T130000
DTEND;TZID=America/New_York:20260219T140000
DESCRIPTION:https://www.w3.org/events/meetings/690d057f-db6d-4169-b13f-68d7
 f1336b59/20260219T130000/\n\n\n\nAgenda\n\n* [New Issue Triage](https://ti
 nyurl.com/3hkcsnym)\n* [New PR Triage](https://github.com/search?q=is%3Aop
 en+is%3Apr+created:%3E=2026-02-12+repo:w3c/aria&type=Issues)\n* [WPT Open 
 PRs](https://bit.ly/wpt_a11y)\n\n* [[css-fonts-5] Text Fitting: Default sc
 aling limit #12886](https://github.com/w3c/csswg-drafts/issues/12886)\n* [
 CSS/ARIA Issue Triage: [css-display-4] reading-flow/reading-order vs text 
 selection #12014](https://github.com/w3c/csswg-drafts/issues/12014)\n* [CS
 S/ARIA Issue Triage: Add an ::interest-button pseudo element to interest i
 nvokers #12437](https://github.com/w3c/csswg-drafts/issues/12437)
STATUS:CONFIRMED
CREATED:20260217T185433Z
LAST-MODIFIED:20260219T154519Z
SEQUENCE:3
ORGANIZER;CN=W3C Calendar;PARTSTAT=ACCEPTED;ROLE=NON-PARTICIPANT:mailto:nor
 eply@w3.org
ATTENDEE;CUTYPE=GROUP;ROLE=OPT-PARTICIPANT;RSVP=FALSE;CN=Accessible Rich In
 ternet Applications Working Group:mailto:public-aria@w3.org
RECURRENCE-ID;TZID=America/New_York:20260219T130000
END:VEVENT
END:VCALENDAR
