BEGIN:VCALENDAR
VERSION:2.0
PRODID:-//Sabre//Sabre VObject 4.5.8//EN
CALSCALE:GREGORIAN
LAST-MODIFIED:20260203T222610Z
BEGIN:VTIMEZONE
TZID:America/New_York
X-MICROSOFT-CDO-TZID:10
BEGIN:DAYLIGHT
DTSTART:20250309T070000
TZOFFSETFROM:-0500
TZOFFSETTO:-0400
TZNAME:EDT
END:DAYLIGHT
BEGIN:DAYLIGHT
DTSTART:20260308T070000
TZOFFSETFROM:-0500
TZOFFSETTO:-0400
TZNAME:EDT
END:DAYLIGHT
BEGIN:STANDARD
DTSTART:20251102T060000
TZOFFSETFROM:-0400
TZOFFSETTO:-0500
TZNAME:EST
END:STANDARD
END:VTIMEZONE
BEGIN:VEVENT
UID:690d057f-db6d-4169-b13f-68d7f1336b59
DTSTAMP:20260203T222610Z
SUMMARY:ARIA Working Group weekly meeting
DTSTART;TZID=America/New_York:20260205T130000
DTEND;TZID=America/New_York:20260205T140000
DESCRIPTION:https://www.w3.org/events/meetings/690d057f-db6d-4169-b13f-68d7
 f1336b59/20260205T130000/\n\n\n\nAgenda\n\n* [New PR Triage](https://githu
 b.com/search?q=is%3Aopen+is%3Apr+created:%3E=2026-01-29+repo:w3c/aria&type
 =Issues)\n* [New Issue Triage](https://tinyurl.com/ye268z5m)\n* [WPT Open 
 PRs](https://bit.ly/wpt_a11y)\n* [Deep Dive planning](https://bit.ly/aria-
 meaty-topic-candidates)\n* [AriaNotify Permissions Policy -- needs resolut
 ion](https://github.com/w3c/aria/pull/2577#issuecomment-3787651067)\n* [Co
 nsider adding an attribute for table-cell formulas](https://github.com/w3c
 /aria/issues/2709)\n* If time\, next steps for aria-actions: [aria-actions
 : handling focus when actions are synthetically triggered](https://github.
 com/w3c/aria/issues/2691)
STATUS:CONFIRMED
CREATED:20260203T222609Z
LAST-MODIFIED:20260203T222610Z
SEQUENCE:3
ORGANIZER;CN=W3C Calendar;PARTSTAT=ACCEPTED;ROLE=NON-PARTICIPANT:mailto:nor
 eply@w3.org
ATTENDEE;CUTYPE=GROUP;ROLE=OPT-PARTICIPANT;RSVP=FALSE;CN=Accessible Rich In
 ternet Applications Working Group:mailto:public-aria@w3.org
RECURRENCE-ID;TZID=America/New_York:20260205T130000
END:VEVENT
END:VCALENDAR
