BEGIN:VCALENDAR
VERSION:2.0
PRODID:-//Sabre//Sabre VObject 4.5.8//EN
CALSCALE:GREGORIAN
LAST-MODIFIED:20250317T143149Z
BEGIN:VTIMEZONE
TZID:America/Los_Angeles
X-MICROSOFT-CDO-TZID:13
BEGIN:STANDARD
DTSTART:20241103T090000
TZOFFSETFROM:-0700
TZOFFSETTO:-0800
TZNAME:PST
END:STANDARD
BEGIN:STANDARD
DTSTART:20251102T090000
TZOFFSETFROM:-0700
TZOFFSETTO:-0800
TZNAME:PST
END:STANDARD
BEGIN:DAYLIGHT
DTSTART:20250309T100000
TZOFFSETFROM:-0800
TZOFFSETTO:-0700
TZNAME:PDT
END:DAYLIGHT
END:VTIMEZONE
BEGIN:VEVENT
UID:68c7f3d3-a865-4ce7-b19e-ef2f45716855
DTSTAMP:20250317T143149Z
SUMMARY:FedID CG (Pacific) - 2025
DTSTART;TZID=America/Los_Angeles:20250616T170000
DTEND;TZID=America/Los_Angeles:20250616T180000
DESCRIPTION:https://www.w3.org/events/meetings/68c7f3d3-a865-4ce7-b19e-ef2f
 45716855/20250616T170000/\n\n\n\nAgenda: https://github.com/fedidcg/meetin
 gs
STATUS:CANCELLED
CREATED:20250317T143145Z
LAST-MODIFIED:20250317T143149Z
SEQUENCE:0
ORGANIZER;CN=W3C Calendar;PARTSTAT=ACCEPTED;ROLE=NON-PARTICIPANT:mailto:nor
 eply@w3.org
ATTENDEE;CUTYPE=GROUP;ROLE=OPT-PARTICIPANT;RSVP=FALSE;CN=Federated Identity
  Community Group:mailto:public-fed-id@w3.org
RECURRENCE-ID;TZID=America/Los_Angeles:20250616T170000
END:VEVENT
END:VCALENDAR
